BEGIN:VCALENDAR
VERSION:2.0
PRODID:-//wp-events-plugin.com//7.2.3.1//EN
TZID:Europe/Rome
X-WR-TIMEZONE:Europe/Rome
BEGIN:VEVENT
UID:35633@lazioeventi.com
DTSTART;TZID=Europe/Rome:20230615T203000
DTEND;TZID=Europe/Rome:20230615T223000
DTSTAMP:20230530T082452Z
URL:https://lazioeventi.com/eventi/brahms-ein-deutsches-requiem-2
SUMMARY:Brahms: Ein deutsches Requiem - Roma - 15 Giugno 23 20:30
DESCRIPTION:A Roma\, il 15 giugno 2023\, nella splendida cornice della Basi
 lica dell'Aracoeli\, 130 coristi e 50 orchestrali\, diretti dal Maestro Lo
 renzo Macrì\, eseguiranno l'opera di Brahms: Ein deutsches Requiem.\nTre 
 cori romani sono riuniti per questo evento: Coro Accademia Vocale Romana\,
  Coro Koob e Coro Lirico La Fenice\, più numerosi amici accorsi per canta
 re quest'opera insieme a noi.\nL'evento sarà inserito nel calendario dell
 e celebrazioni per l'VIII centenario francescano. 
ATTACH;FMTTYPE=image/jpeg:https://lazioeventi.com/wp-content/uploads/2023/
 05/brahams.jpg
CATEGORIES:Musica, Spettacoli e Danza nel Lazio
LOCATION:Roma\, Via Leopardi\, Roma\, Roma\, Lazio\, Italia
GEO:41.8942;12.5017
X-APPLE-STRUCTURED-LOCATION;VALUE=URI;X-ADDRESS=Via Leopardi\, Roma\, Roma\
 , Lazio\, Italia;X-APPLE-RADIUS=100;X-TITLE=Roma:geo:41.8942,12.5017
END:VEVENT
BEGIN:VTIMEZONE
TZID:Europe/Rome
X-LIC-LOCATION:Europe/Rome
BEGIN:DAYLIGHT
DTSTART:20230326T030000
TZOFFSETFROM:+0100
TZOFFSETTO:+0200
TZNAME:CEST
END:DAYLIGHT
END:VTIMEZONE
END:VCALENDAR