BEGIN:VCALENDAR
VERSION:2.0
PRODID:-//wp-events-plugin.com//7.2.3.1//EN
TZID:Europe/Rome
X-WR-TIMEZONE:Europe/Rome
BEGIN:VEVENT
UID:34618@lazioeventi.com
DTSTART;TZID=Europe/Rome:20230615T203000
DTEND;TZID=Europe/Rome:20230615T223000
DTSTAMP:20230315T203806Z
URL:https://lazioeventi.com/eventi/brahms-ein-deutsches-requiem
SUMMARY:Brahms - Ein deutsches Requiem - Roma - 15 Giugno 23 20:30
DESCRIPTION:A Roma\, il 15 giugno 2023\, nella splendida cornice della Basi
 lica dell'Aracoeli\, 130 coristi e 50 orchestrali\, diretti dal Maestro Lo
 renzo Macrì\, eseguiranno l'opera di Brahms: Ein deutsches Requiem.\nL'ev
 ento sarà inserito nel calendario delle celebrazioni per l'VIII centenari
 o francescano. \n\nEin deutsches Requiem di Brahms\, noto anche come Requi
 em tedesco\, è un'opera corale composta dal compositore tedesco Johannes 
 Brahms. Fu composta tra il 1865 e il 1868 e fu eseguita per la prima volta
  a Lipsia\, in Germania\, nel 1869.\n\nA differenza delle tradizionali mes
 se da requiem\, che si basano sul testo latino della Messa cattolica per i
  defunti\, Ein deutsches Requiem di Brahms è un'opera sacra che mette in 
 scena una serie di testi biblici in tedesco. I testi\, scelti da Brahms st
 esso\, si concentrano su temi di conforto\, speranza e redenzione piuttost
 o che di giudizio e dannazione.\n\nL'opera è segnata per una grande orche
 stra\, coro e solisti ed è divisa in sette movimenti. Il primo e l'ultimo
  movimento sono cori\, mentre il secondo\, il terzo e il quinto movimento 
 sono caratterizzati da solisti. Il quarto movimento è un breve interludio
  strumentale\, mentre il sesto movimento è un assolo di baritono accompag
 nato da coro e orchestra.\n\nEin deutsches Requiem di Brahms è ampiamente
  considerato come una delle più grandi opere corali del XIX secolo ed è 
 noto per le sue ampie melodie\, le ricche armonie e la profondità emotiva
 . Il brano è stato eseguito e registrato da molte delle orchestre e dei c
 ori più importanti del mondo e continua a essere oggi un punto fermo del 
 repertorio corale.\n\nNel complesso\, Ein deutsches Requiem di Brahms è u
 n'opera potente e commovente che offre una prospettiva unica ed edificante
  sul tema della mortalità e dell'esperienza umana. È una testimonianza d
 ell'abilità di Brahms come compositore e della sua capacità di creare op
 ere tecnicamente brillanti ed emotivamente risonanti.
ATTACH;FMTTYPE=image/jpeg:https://lazioeventi.com/wp-content/uploads/2023/
 03/Brahms.jpg
CATEGORIES:Musica, Spettacoli e Danza nel Lazio
LOCATION:Roma\, Via Leopardi\, Roma\, Roma\, Lazio\, Italia
GEO:41.8942;12.5017
X-APPLE-STRUCTURED-LOCATION;VALUE=URI;X-ADDRESS=Via Leopardi\, Roma\, Roma\
 , Lazio\, Italia;X-APPLE-RADIUS=100;X-TITLE=Roma:geo:41.8942,12.5017
END:VEVENT
BEGIN:VTIMEZONE
TZID:Europe/Rome
X-LIC-LOCATION:Europe/Rome
BEGIN:DAYLIGHT
DTSTART:20230326T030000
TZOFFSETFROM:+0100
TZOFFSETTO:+0200
TZNAME:CEST
END:DAYLIGHT
END:VTIMEZONE
END:VCALENDAR