BEGIN:VCALENDAR
VERSION:2.0
PRODID:-//wp-events-plugin.com//7.2.3.1//EN
TZID:Europe/Rome
X-WR-TIMEZONE:Europe/Rome
BEGIN:VEVENT
UID:33915@lazioeventi.com
DTSTART;TZID=Europe/Rome:20230129T180000
DTEND;TZID=Europe/Rome:20230129T193000
DTSTAMP:20230127T090739Z
URL:https://lazioeventi.com/eventi/briciole-di-felicita
SUMMARY:Briciole di felicità - Viterbo - 29 Gennaio 23 18:00
DESCRIPTION:Domenica 29 Gennaio alle ore 18\, il Teatro dell'Unione di Vite
 rbo\, all'interno della stagione "A teatro in famiglia 2022-2023"\, mette 
 in scena "Briciole di felicità"\, lo spettacolo per bambini dai 3 anni\, 
 scritto da Anna Maini\, ispirato a "Il Venditore di felicità" di Davide C
 alì e Marco Somà e presentato dalla Artevox Teatro. Non lontano da qui e
 siste un bosco di case sospese\, dove irrompe all’improvviso il Venditor
 e di felicità: vende felicità in barattolo. Senz’altro gli abitanti de
 l villaggio la comprano\, ne hanno un gran bisogno. Peccato però\, i bara
 ttoli sono vuoti. \nMa dov’è finita la felicità? Ai piedi delle case s
 ospese\, nel “buco” vive Ohibò. Ohibò è strano\, non parla la loro 
 lingua ed è diverso da loro\, sembra felice. Che abbia preso lui la loro 
 felicità? Inizia così un’avventura che porterà gli abitanti del villa
 ggio a uscire dalle loro case\, a parlarsi e infine a conoscersi davvero. 
 Quando scopriranno il segreto di Ohibò si accorgeranno di aver scoperto i
 l segreto della felicità. \nLa biglietteria del Teatro è aperta dal mart
 edì al sabato con orario 10 -13 e 15 - 19. Aperto anche di domenica\, con
  gli stessi orari\, solo in caso di spettacoli o altre attività. \nChiuso
  il lunedì.\n\nBiglietti :\nBambini: 5€\nIntero: 10 € + 1 €\nRidott
 o: 8 € + 1 €
ATTACH;FMTTYPE=image/jpeg:https://lazioeventi.com/wp-content/uploads/2023/
 01/biviole-felicita.jpeg
CATEGORIES:Musica, Spettacoli e Danza nel Lazio
LOCATION:Viterbo\, Comune\, Viterbo\, Viterbo\, Lazio\, Italia
GEO:42.417;12.1051
X-APPLE-STRUCTURED-LOCATION;VALUE=URI;X-ADDRESS=Comune\, Viterbo\, Viterbo\
 , Lazio\, Italia;X-APPLE-RADIUS=100;X-TITLE=Viterbo:geo:42.417,12.1051
END:VEVENT
BEGIN:VTIMEZONE
TZID:Europe/Rome
X-LIC-LOCATION:Europe/Rome
BEGIN:STANDARD
DTSTART:20221030T020000
TZOFFSETFROM:+0200
TZOFFSETTO:+0100
TZNAME:CET
END:STANDARD
END:VTIMEZONE
END:VCALENDAR