BEGIN:VCALENDAR
VERSION:2.0
PRODID:-//wp-events-plugin.com//7.2.3.1//EN
TZID:Europe/Rome
X-WR-TIMEZONE:Europe/Rome
BEGIN:VEVENT
UID:27481@lazioeventi.com
DTSTART;TZID=Europe/Rome:20200828T193000
DTEND;TZID=Europe/Rome:20200903T223000
DTSTAMP:20200825T124311Z
URL:https://lazioeventi.com/eventi/broadway-film-fest
SUMMARY:Broadway Film Fest - Roma - 28 Agosto 20 19:30
DESCRIPTION:Deacomunicazione Eventi presenta Broadway Film Fest Dal 28 Agos
 to al 3 Settembre Il maxischermo dell'Arena Broadway\, il più grande dell
 a Capitale\, oltre alla consueta programmazione con i più grandi successi
  dell’ultima stagione cinematografica\,
ATTACH;FMTTYPE=image/jpeg:https://lazioeventi.com/wp-content/uploads/2020/
 08/broadway.jpg
CATEGORIES:Musica, Spettacoli e Danza nel Lazio
LOCATION:Roma\, Via Leopardi\, Roma\, Roma\, Lazio\, Italia
GEO:41.8942;12.5017
X-APPLE-STRUCTURED-LOCATION;VALUE=URI;X-ADDRESS=Via Leopardi\, Roma\, Roma\
 , Lazio\, Italia;X-APPLE-RADIUS=100;X-TITLE=Roma:geo:41.8942,12.5017
END:VEVENT
BEGIN:VTIMEZONE
TZID:Europe/Rome
X-LIC-LOCATION:Europe/Rome
BEGIN:DAYLIGHT
DTSTART:20200329T030000
TZOFFSETFROM:+0100
TZOFFSETTO:+0200
TZNAME:CEST
END:DAYLIGHT
END:VTIMEZONE
END:VCALENDAR