BEGIN:VCALENDAR
VERSION:2.0
PRODID:-//wp-events-plugin.com//7.2.3.1//EN
TZID:Europe/Rome
X-WR-TIMEZONE:Europe/Rome
BEGIN:VEVENT
UID:33316@lazioeventi.com
DTSTART;TZID=Europe/Rome:20221208T160000
DTEND;TZID=Europe/Rome:20221208T200000
DTSTAMP:20221201T061810Z
URL:https://lazioeventi.com/eventi/buon-natale-antrodoco
SUMMARY:Buon Natale Antrodoco - Antrodoco - 8 Dicembre 22 16:00
DESCRIPTION:Un solidale e divertente natale 2022 vi aspetta ad Antrodoco da
 ll'8 dicembre\n\nIntrattenimento per grandi e piccoli \n\nMercatino di ben
 eficenza con possibilità di acquistare #dolcidellatradizione natalizia An
 trodocana\n\nTutti i ricavati saranno devoluti i beneficienza\n\nCentro st
 orico di Antrodoco
ATTACH;FMTTYPE=image/jpeg:https://lazioeventi.com/wp-content/uploads/2022/
 12/immacolata-antrodoco.jpg
CATEGORIES:Sport, Tempo Libero e Divertimento nel Lazio
LOCATION:Antrodoco\, Comune di Antrodoco\, Antrodoco\, Rieti\, Lazio\, Ital
 ia
GEO:42.4175;13.0802
X-APPLE-STRUCTURED-LOCATION;VALUE=URI;X-ADDRESS=Comune di Antrodoco\, Antro
 doco\, Rieti\, Lazio\, Italia;X-APPLE-RADIUS=100;X-TITLE=Antrodoco:geo:42.
 4175,13.0802
END:VEVENT
BEGIN:VTIMEZONE
TZID:Europe/Rome
X-LIC-LOCATION:Europe/Rome
BEGIN:STANDARD
DTSTART:20221030T020000
TZOFFSETFROM:+0200
TZOFFSETTO:+0100
TZNAME:CET
END:STANDARD
END:VTIMEZONE
END:VCALENDAR