BEGIN:VCALENDAR
VERSION:2.0
PRODID:-//wp-events-plugin.com//7.2.3.1//EN
TZID:Europe/Rome
X-WR-TIMEZONE:Europe/Rome
BEGIN:VEVENT
UID:38207@lazioeventi.com
DTSTART;TZID=Europe/Rome;VALUE=DATE:20260101
DTEND;TZID=Europe/Rome;VALUE=DATE:20260107
DTSTAMP:20251229T101231Z
URL:https://lazioeventi.com/eventi/buone-feste-al-museo
SUMMARY:Buone Feste al Museo - Roma - 1 Gennaio 26 00:00
DESCRIPTION:Giovedì 1° gennaio 2026 il Ministero della Cultura ha previst
 o un'apertura straordinaria che coinvolgerà istituti museali\, complessi 
 monumentali e parchi archeologici su tutto il territorio nazionale\, con o
 rari e modalità di fruizione definiti dai singoli istituti. Prima della v
 isita\, si suggerisce di verificare sempre orari e modalità di ingresso s
 ulla app Musei Italiani o sui canali istituzionali dei singoli istituti.\n
 \nA questo link l'elenco di tutte le aperture comunicate dagli istituti.\n
 \nMartedì 6 gennaio 2026 i musei\, i complessi e i parchi archeologici st
 atali rimarranno aperti su tutto il territorio nazionale. Per accogliere i
  visitatori in occasione dell'Epifania\, in alcuni siti è previsto anche 
 il differimento della consueta chiusura settimanale del martedì. Prima de
 lla visita\, si suggerisce di verificare sempre orari e modalità di ingre
 sso sulla app Musei Italiani o sui canali istituzionali dei singoli istitu
 ti.\n\nQui l'elenco di tutte le aperture comunicate dagli istituti.
ATTACH;FMTTYPE=image/jpeg:https://lazioeventi.com/wp-content/uploads/2023/
 12/BuoneFeste_1gennaio2026_CardDEF_sito.jpg
CATEGORIES:Arte e Cultura nel Lazio
LOCATION:Roma\, Via Leopardi\, Roma\, Roma\, Lazio\, Italia
GEO:41.8942;12.5017
X-APPLE-STRUCTURED-LOCATION;VALUE=URI;X-ADDRESS=Via Leopardi\, Roma\, Roma\
 , Lazio\, Italia;X-APPLE-RADIUS=100;X-TITLE=Roma:geo:41.8942,12.5017
END:VEVENT
BEGIN:VTIMEZONE
TZID:Europe/Rome
X-LIC-LOCATION:Europe/Rome
BEGIN:STANDARD
DTSTART:20251026T020000
TZOFFSETFROM:+0200
TZOFFSETTO:+0100
TZNAME:CET
END:STANDARD
END:VTIMEZONE
END:VCALENDAR