BEGIN:VCALENDAR
VERSION:2.0
PRODID:-//wp-events-plugin.com//7.2.3.1//EN
TZID:Europe/Rome
X-WR-TIMEZONE:Europe/Rome
BEGIN:VEVENT
UID:31019@lazioeventi.com
DTSTART;TZID=Europe/Rome;VALUE=DATE:20220521
DTEND;TZID=Europe/Rome;VALUE=DATE:20220523
DTSTAMP:20220519T155045Z
URL:https://lazioeventi.com/eventi/buongiorno-ceramica-civita-castellana
SUMMARY:Buongiorno Ceramica - Civita Castellana - 21 Maggio 22 00:00
DESCRIPTION:L’edizione 2022 di Buongiorno Ceramica\, realizzata con il pa
 trocinio del comune di Civita Castellana\, proporrà una serie di interess
 anti iniziative che offriranno un’ampia panoramica sulla tradizione dell
 ’arte locale\, segno distintivo della città falisca e che rifletteranno
  il prestigio della storica appartenenza all’associazione tra le città 
 di antica tradizione ceramica. Infatti Buongiorno Ceramica è\, come noto\
 , un format ideato dall’Aicc - Associazione italiana città della cerami
 ca che dal 1989 ha sede a Faenza e ha come obiettivo quello di tutelare e 
 valorizzare la ceramica artistica e artigianale italiana. L’associazione
  gode del riconoscimento del Ministero dello sviluppo economico e dal 2022
  fa parte del World Crafts Council Europe che promuove l’artigianato\, i
 l design e le arti applicate in Europa.\n\nDato il prestigio dell’inizia
 tiva\, un programma di assoluto livello è stato messo a punto dal Comune\
 , insieme al museo Marcantoni e al liceo artistico Midossi. Gli eventi sì
  svolgeranno nei fine settimana di fine maggio in contemporanea nazionale 
 con le altre città d’arte.\n\nSabato 21 maggio al Forte Sangallo alle o
 re 10 si darà il via al calendario con un incontro tra imprenditrici mode
 rato dalla direttrice Sara De Angelis\, dal titolo “Civita Castellana e 
 la sua ceramica. Arte e storia”.\nGuest star internazionale sarà Anna F
 endi\, il cui nome è sinonimo di un marchio storico nazionale dell’arti
 gianato di qualità\, accompagnata dalla prof.ssa Nadia Mezzani.\n\nPresen
 ti anche Maria Anna De Lucia Brolli\, professionista di lunga esperienza p
 resso la Sovrintendenza per l’Etruria meridionale della quale è stata a
 nche direttrice\; Maria Cristina Biella del Dipartimento di Scienze dell
 ’Antichità – Insegnamento di Etruscologia e Antichità Italiche\, in 
 costante attività con numerose pubblicazioni\, campagne di scavo e mostre
  tematiche\; Franco Giorgi\, illustre maestro esperto di artigianato e ins
 ignito del titolo di Ambasciatore delle Città della Ceramica\; Valentina 
 Vitali figlia d’arte impegnata nell’export delle aziende di famiglia e
 d erede dell’imprenditore che fondò la Varm\, storica ceramica che ha c
 ontribuito\, tra le prime\, ad esportare l’immagine ed il nome di Civita
  Castellana nel mondo\; Raffaella Cerica\, direttore del Centro Ceramica C
 ivita Castellana\, esperta nella cura dei rapporti tra le micro\, piccole 
 e medie imprese dell'industria\, dell'artigianato e dei servizi che hanno 
 sede nel Distretto Industriale del territorio\; Tamara Patilli\, archeolog
 a\, responsabile del Museo della ceramica Casimiro Marcantoni di Civita Ca
 stellana\, della SIAT (Sistemi Integrati per l’Archeologia) e direttore 
 scientifico del Museo della ceramica di Vasanello\; Maria Vittoria Patera\
 , archeologa\, docente e direttore scientifico del Museo della ceramica 
 “Casimiro Marcantoni”.\n\nQuasi in contemporanea\, alle ore 10\,30\, p
 resso la sala comunale ex Carcerette\, in via Vinciolino 7\, verrà inaugu
 rata la mostra “Art in progress”\, organizzata dal liceo artistico Uld
 erico Midossi\, mentre al museo “Marcantoni” alle ore 11\,00 si inaugu
 rerà “Tracciami”\, la mostra d’arte contemporanea di Jessica Pintal
 di con Leonardo Cuccoli e Manuela Stefanini\, in collaborazione con Sinerg
 ia d'Arte e Siat (Sistemi Integrati Archeologia e Territorio). A seguire c
 i sarà un workshop sull’argilla\, sempre guidato dalla stessa Pintaldi 
 che dalle ore 16\,30 proporrà poi anche una rappresentazione di teatro co
 rporale\, con la proiezione del video “Tracciami” realizzato a Procida
 \, capitale della cultura 2022. Alle ore 17\,00 i lavori proseguiranno con
  un tour della ceramica che prevede una visita guidata con partenza propri
 o dal museo fino ad arrivare al Forte Sangallo con la mostra “Vignale 19
 84-2022\, case degli uomini e dimore degli Dei a Falerii Veteres”\, visi
 tabile fino al 31 luglio.\n\nDomenica 22 alle ore 11\,00 sarà nuovamente 
 possibile un tour della ceramica con visita guidata dal museo Marcantoni. 
 Alle ore 15\,00 ci sarà poi un laboratorio (libero e su prenotazione) di 
 scultura astratta a cura della dottoressa Pintaldi e\, per concludere\, al
 le ore 17\,00 di nuovo un tour guidato dal museo al Forte Sangallo.\n\nLa 
 domenica successiva\, il 29 maggio\, alle ore 15\,00 verrà riproposto un 
 laboratorio di pittura presso il museo della ceramica e a seguire la visit
 a guidata al Forte Sangallo con mostra sul Vignale.\n\nPer informazioni co
 ntattare su whatsapp il numero 3392077494.
ATTACH;FMTTYPE=image/jpeg:https://lazioeventi.com/wp-content/uploads/2022/
 05/ceramica-civita-castellana.jpg
CATEGORIES:Varie,Arte e Cultura nel Lazio
LOCATION:Civita Castellana\, Comune di Civita Castellana\, Civita Castellan
 a\, Viterbo\, Lazio\, Italia
GEO:42.2889;12.4114
X-APPLE-STRUCTURED-LOCATION;VALUE=URI;X-ADDRESS=Comune di Civita Castellana
 \, Civita Castellana\, Viterbo\, Lazio\, Italia;X-APPLE-RADIUS=100;X-TITLE
 =Civita Castellana:geo:42.2889,12.4114
END:VEVENT
BEGIN:VTIMEZONE
TZID:Europe/Rome
X-LIC-LOCATION:Europe/Rome
BEGIN:DAYLIGHT
DTSTART:20220327T030000
TZOFFSETFROM:+0100
TZOFFSETTO:+0200
TZNAME:CEST
END:DAYLIGHT
END:VTIMEZONE
END:VCALENDAR