BEGIN:VCALENDAR
VERSION:2.0
PRODID:-//wp-events-plugin.com//7.2.3.1//EN
TZID:Europe/Rome
X-WR-TIMEZONE:Europe/Rome
BEGIN:VEVENT
UID:41536@lazioeventi.com
DTSTART;TZID=Europe/Rome:20250517T100000
DTEND;TZID=Europe/Rome:20250518T193000
DTSTAMP:20250515T072156Z
URL:https://lazioeventi.com/eventi/caffarella-green-fest
SUMMARY:Caffarella Green Fest! - Roma - 17 Maggio 25 10:00
DESCRIPTION:Torna il Caffarella Green Fest!\nDue giorni di natura\, scienza
 \, laboratori\, musica e tanto altro nel cuore verde di Roma!\n17-18 maggi
 o 2025 (sabato e domenica)\nCasale Vigna Cardinali - Parco della Caffarell
 a\, Roma\n\nScopri insieme a noi il mondo del mare e della biodiversità c
 on escursioni\, convegni\, mostre\, laboratori per grandi e piccoli\, quiz
 \, yoga e aperitivo con live music!\n\nUn EVENTO GRATUITO per tutti\, orga
 nizzato da Progetto Seeds e Il Melograno Solidarietà Ambiente Cultura APS
 \, con il supporto di tante realtà scientifiche e ambientali.\n\nNon manc
 are\, vivi con noi la Caffarella... in versione Green Fest!\n\nYoga ed esc
 ursioni sono gratuite ma è necessario prenotarsi al link https://linktr.e
 e/progettoseeds
ATTACH;FMTTYPE=image/jpeg:https://lazioeventi.com/wp-content/uploads/2025/
 05/caffarella-greenfest.jpg
CATEGORIES:Arte e Cultura nel Lazio,Musica, Spettacoli e Danza nel
 Lazio,Sport, Tempo Libero e Divertimento nel Lazio,Varie
LOCATION:Roma\, Via Leopardi\, Roma\, Roma\, Lazio\, Italia
GEO:41.8942;12.5017
X-APPLE-STRUCTURED-LOCATION;VALUE=URI;X-ADDRESS=Via Leopardi\, Roma\, Roma\
 , Lazio\, Italia;X-APPLE-RADIUS=100;X-TITLE=Roma:geo:41.8942,12.5017
END:VEVENT
BEGIN:VTIMEZONE
TZID:Europe/Rome
X-LIC-LOCATION:Europe/Rome
BEGIN:DAYLIGHT
DTSTART:20250330T030000
TZOFFSETFROM:+0100
TZOFFSETTO:+0200
TZNAME:CEST
END:DAYLIGHT
END:VTIMEZONE
END:VCALENDAR