BEGIN:VCALENDAR
VERSION:2.0
PRODID:-//wp-events-plugin.com//7.2.3.1//EN
TZID:Europe/Rome
X-WR-TIMEZONE:Europe/Rome
BEGIN:VEVENT
UID:38280@lazioeventi.com
DTSTART;TZID=Europe/Rome;VALUE=DATE:20240126
DTEND;TZID=Europe/Rome;VALUE=DATE:20240202
DTSTAMP:20240115T121422Z
URL:https://lazioeventi.com/eventi/caleidoscopio-dellanima-mostra-di-nicol
 a-damiani
SUMMARY:Caleidoscopio dell'anima\, mostra di Nicola Damiani - Roma - 26 Gen
 naio 24 00:00
DESCRIPTION:Dal 26 gennaio al 1 febbraio 2024 Medina Art Gallery presenta l
 a mostra personale di Nicola Damiani nella galleria di Via Merulana 220.\n
 \nL’evento di opening si terrà il giorno venerdì 26 gennaio presso Med
 ina Art Gallery di Via Merulana 220 con performance dell’attore Makrià 
 Midèn alle ore 18:00.\n\nNicola Damiani\, artista dal carattere forte e p
 articolarmente sensibile alle questioni sociali\, nasce in un quartiere po
 polare di Bari nel 1972. Affettuosamente legato alle sue origini famigliar
 i e ai ricordi d’infanzia racchiude dentro di sé un mondo interiore che
 \, fin da piccolo\, è stato contornato da gioie e dolori legati al contes
 to socio-economico in cui egli è vissuto. Nel testo da lui scritto\, l’
 artista parla di sé facendo riferimento ad un animo permeato da tratti in
  forte contrapposizione tra loro: alla dimensione istintiva e “selvaggia
 ”\, che ha sempre lottato per l’uguaglianza e la dignità\, se ne aggi
 unge un’altra fatta di timidezza\, ricerca di tranquillità e solitudine
 . È proprio in questo spazio che avviene l’avvicinamento ad un nuovo mo
 do di essere\, quello di fare arte\, che però non può trovare immediatam
 ente la sua concretizzazione a causa delle gravose responsabilità famigli
 ari ed economiche.\n\nIl pittore vive stabilmente in Grecia e si dedica al
 la ristorazione facendo come mestiere il pizzaiolo. In età adulta ha avut
 o modo di approfondire la sua passione per la pittura e per l’arte grazi
 e ai suoi sforzi personali e al suo impegno. Ha avuto l’occasione di esp
 orre i suoi lavori sia in un contesto nazionale che internazionale.\n\nIl 
 mondo dell’artista è caratterizzato da una forza istintiva\; essa è ra
 vvisabile nelle opere che sono il frutto di una variegata e intuitiva sper
 imentazione sia dal punto di vista stilistico che nella scelta e nell’us
 o di materiali differenti. L’energia e la vitalità che vengono sprigion
 ate hanno come obiettivo quello di suscitare forti reazioni nell’osserva
 tore\; l’intento è quello di trasmettere un’emozione per comunicare u
 n messaggio spesso di denuncia sociale verso le ingiustizie e le difficolt
 à che contraddistinguono i nostri tempi. La tecnica utilizzata rimanda al
 la corrente Futurista\, dove modalità e uso dei colori rendono l’insiem
 e pittorico dinamico e decisamente accattivante.\n\nIn breve:\nTitolo Most
 ra: Mostra personale di Nicola Damiani\nOpening Mostra: venerdì 26 gennai
 o alle ore 18:00\nDurata Mostra: dal 26 gennaio al 1 febbraio 2024\n\nSoci
 al: facebook.com/medinaroma.arte / instagram.com/medinaroma.arte\nOrari: D
 al lunedì al venerdì ore 10:00 - 13:00 e 15:00 - 19:00
ATTACH;FMTTYPE=image/jpeg:https://lazioeventi.com/wp-content/uploads/2024/
 01/01.-Nicola-Damiani-Locandina.jpg
CATEGORIES:Arte e Cultura nel Lazio
LOCATION:Roma\, Via Leopardi\, Roma\, Roma\, Lazio\, Italia
GEO:41.8942;12.5017
X-APPLE-STRUCTURED-LOCATION;VALUE=URI;X-ADDRESS=Via Leopardi\, Roma\, Roma\
 , Lazio\, Italia;X-APPLE-RADIUS=100;X-TITLE=Roma:geo:41.8942,12.5017
END:VEVENT
BEGIN:VTIMEZONE
TZID:Europe/Rome
X-LIC-LOCATION:Europe/Rome
BEGIN:STANDARD
DTSTART:20231029T020000
TZOFFSETFROM:+0200
TZOFFSETTO:+0100
TZNAME:CET
END:STANDARD
END:VTIMEZONE
END:VCALENDAR