BEGIN:VCALENDAR
VERSION:2.0
PRODID:-//wp-events-plugin.com//7.2.3.1//EN
TZID:Europe/Rome
X-WR-TIMEZONE:Europe/Rome
BEGIN:VEVENT
UID:39311@lazioeventi.com
DTSTART;TZID=Europe/Rome;VALUE=DATE:20240612
DTEND;TZID=Europe/Rome;VALUE=DATE:20240620
DTSTAMP:20240603T070851Z
URL:https://lazioeventi.com/eventi/camerun
SUMMARY:Camerun - Roma - 12 Giugno 24 00:00
DESCRIPTION:Una mostra a sostegno della scuola di musica del Maestro africa
 no As’a Telong\n\nDal 12 al 19 giugno 2024\, il rinomato regista\, scrit
 tore e artista Andrea Barzini presenterà la sua nuova mostra dal titolo 
 “CAMERUN” allestita presso la Galleria Mo.C.A. di Roma.\nAll’interno
  dell’intima atmosfera espositiva della galleria romana verranno esposte
  35 opere (olio su cartoncino) ispirate dal suo recente viaggio in Africa\
 , le quali il 20 giugno alle 18.30 saranno messe all’asta per finanziare
  la scuola di musica africana “As’a Telong Music Academy (ATMA)”\, f
 ondata\, diretta e gestita (senza fondi pubblici) dal chitarrista As’a T
 elong.\n\n \n\nInfatti\, durante il suo viaggio in Camerun\, Barzini ha av
 uto l’opportunità di incontrare il noto musicista africano rimanendo f
 olgorato dalla sua arte e dalla profonda passione verso il suo lavoro. Il 
 Maestro As’a Telong rappresenta un’istituzione nella città di Tzchan
 g: una vita dedicata alla musica\, la sua carriera vanta collaborazioni co
 n importanti artisti africani tra i quali Fela Kuti\, Boncana Maiga\, Aish
 a Kone e molti altri provenienti dalla Nigeria\, Costa d’Avorio e Benin\
 ; è da lungo tempo coinvolto nella produzione indipendente di musica ed 
 ha stretti rapporti con l’università di Tzchang. La sua musica seducen
 te\, intensa è scandita da una ritmica straordinaria\, un Mark Knopfler 
 sub-tropicale grazie al tipico sound africano caratterizzato da influenze 
 rock\, blues\, swing e jazz.\n\n \n\nQuello che in particolare colpisce Ba
 rzini è la dedizione gratuita\, e dunque doppiamente generosa\, all’in
 segnamento. Arte e cultura pagano per prime le difficoltà economiche del
  Camerun e le persone che lavorano in questo settore fondamentale e fondan
 te sono in prima linea per preservare e diffondere la ricchezza culturale 
 del paese con il loro impegno e la loro creatività.\n\nDa questa profond
 a esperienza nasce “CAMERUN”\, una mostra che racconta l’incontro tr
 a un europeo e l’Africa. Questi due mondi che si uniscono danno vita ad 
 un mix tra suggestione e racconto\, con l'Africa che diventa il teatro di 
 una narrazione affascinante e spirituale attraverso l’utilizzo di una pa
 lette cromatica minimale. Come già successo in passato\, anche questa vol
 ta Barzini ha intrapreso un viaggio improvvisato\, lasciandosi sorprendere
  dal destino. I lavori esposti sono frutto di osservazioni dirette di paes
 aggi e momenti della vita quotidiana\, di luoghi misteriosi e lontani dai 
 valori e dai ritmi occidentali\, ma enormemente ammalianti e comunicativi.
  Sulla mostra l’artista spiega: “L’Africa con i suoi enigmi è un de
 posito del nostro immaginario più profondo\, un grande sogno contaminato 
 fatto dagli orrori del colonialismo\, la potenza della natura\, le bidonvi
 lle\, la violenza che esplode senza preavviso\, la magia. Raccontarla è s
 tata una sfida seducente e infernale.”\n	\n\nDalle opere in mostra alla 
 galleria Mo.C.A. di Roma è stato tratto anche un libro omonimo\, chiamato
  appunto “Camerun”\, edito dalle edizioni de “Il Cervo volante”\, 
 Tommaso Cascella editore.\n\n \n\nAndrea Barzini devolve sempre il ricavat
 o dei suoi lavori a persone meritevoli incontrate nel corso dei suoi viagg
 i esplorativi. L’anno scorso\, ad esempio\, il beneficiato è stato il g
 iovane monaco buddista Phi Phi Phatpheiw di Vientiane\, Laos\, che necessi
 tava un computer per poter portare avanti la sua istruzione.\n\nQuest’an
 no\, invece\, i lavori esposti nella mostra “CAMERUN” finanzieranno la
  scuola di musica fondata\, diretta e gestita proprio da As’a Telong a T
 zchang: la “As’a Telong Music Academy (ATMA)”. Per l’occasione\, i
 l ricavato verrà destinato ad acquistare vari strumenti musicali\, in par
 ticolare una tastiera\, un mixer\, microfoni per la registrazione\, amplif
 icatori e quant’altro.\n\n \n\nDurante l’inaugurazione\, inoltre\, i p
 resenti avranno la possibilità di assistere alla performance dal vivo di 
 Alberto Dentice\, giornalista\, musicofilo\, musicista e appassionato cono
 scitore di musica africana che omaggerà la cultura del Paese suonando un 
 sound tipico\, introducendo i visitatori alla mostra.\n\n \n\n“CAMERUN
 ” rappresenta quindi un'opportunità unica per gli appassionati d'arte e
  i collezionisti che potranno così ammirare i lavori di Andrea Barzini e\
 , al contempo\, contribuire ad una nobile causa.\n\n\nINFORMAZIONI UTILI\n
 \nTITOLO: CAMERUN\nDI: Andrea Barzini\nDOVE: Galleria Mo.C.A. Piazza degli
  Zingari 1\, Roma\nOPENING: Mercoledì 12 giugno ore 18.30\nQUANDO: Dal 12
  al 19 giugno 2024\nASTA: Giovedì 20 giugno 2024 alle ore 18.30\n\nINGRES
 SO GRATUITO
ATTACH;FMTTYPE=image/jpeg:https://lazioeventi.com/wp-content/uploads/2024/
 06/IL-CESTO-ANDREA-BARZINI.jpg
CATEGORIES:Arte e Cultura nel Lazio
LOCATION:Roma\, Via Leopardi\, Roma\, Roma\, Lazio\, Italia
GEO:41.8942;12.5017
X-APPLE-STRUCTURED-LOCATION;VALUE=URI;X-ADDRESS=Via Leopardi\, Roma\, Roma\
 , Lazio\, Italia;X-APPLE-RADIUS=100;X-TITLE=Roma:geo:41.8942,12.5017
END:VEVENT
BEGIN:VTIMEZONE
TZID:Europe/Rome
X-LIC-LOCATION:Europe/Rome
BEGIN:DAYLIGHT
DTSTART:20240331T030000
TZOFFSETFROM:+0100
TZOFFSETTO:+0200
TZNAME:CEST
END:DAYLIGHT
END:VTIMEZONE
END:VCALENDAR