BEGIN:VCALENDAR
VERSION:2.0
PRODID:-//wp-events-plugin.com//7.2.3.1//EN
TZID:Europe/Rome
X-WR-TIMEZONE:Europe/Rome
BEGIN:VEVENT
UID:28497@lazioeventi.com
DTSTART;TZID=Europe/Rome:20210919T093000
DTEND;TZID=Europe/Rome:20210919T113000
DTSTAMP:20210913T085303Z
URL:https://lazioeventi.com/eventi/camminamenti-di-ronda-delle-mura-aureli
 ane-apertura-straordinaria
SUMMARY:Camminamenti di Ronda delle Mura Aureliane - Apertura straordinaria
  - Roma - 19 Settembre 21 09:30
DESCRIPTION:Apertura straordinaria dei Camminamenti di Ronda delle Mura Aur
 eliane\nVisita guidata con "apertura esclusiva a numero chiuso" - Roma\nVi
 sita guidata con apertura esclusiva a numero chiuso (15 max) con prenotazi
 one obbligatoria\, da saldare in anticipo.\n\nRecenti restauri hanno reso 
 possibile e sicuro l'accesso a nuovi tratti di Camminamento delle Mura Aur
 eliane da poco restaurati e riaperti al pubblico che permettono una passe
 ggiata archeologica con vista mozzafiato sulla città e sulla campagna rom
 ana.\n\nUsciti dal camminamento\, la visita proseguirà alla scoperta dell
 'affascinante storia delle mura\, delle sue porte e tanti monumenti sorti 
 nella loro vicinanza.\n\nUn'occasione unica per conoscere l'affascinante s
 toria delle Mura Aureliane\, e comprendere come un'opera tanto straordin
 aria\, lunga circa 19 km\, possa essere stata costruita in meno di dieci 
 anni e aver resistito fino ad oggi.\n\nQUANDO: domenica 19 settembre 2021
 \, h 9.30\n\n***La visita è a numero chiuso con apertura esclusiva ​c
 on prenotazione obbligatoria\, da saldare in anticipo.\n\n- Ingresso cont
 ingentato (1​5 persone max).\n\n\n- Durata: 2 ore (di cui circa un te
 rzo sarà percorso all'interno delle mura).\n&nbsp\;\n- La visita sarà c
 ondotta da: Cristiana Berto\, storica dell'arte e guida turistica.\n\n \n
 ​- ​Accoglienza e registrazioni dalle ore 9.15 in viale Pretoriano (a
 ccesso tra via dei Frentani e via dei Ramni)\n***La prenotazione è indisp
 ensabile per ricevere conferma che la visita partirà\, se ci sono ancora
  posti disponibili\, e soprattutto per essere ricontattati in caso di vari
 azioni. VEDI SOTTO COME PRENOTARE.\n\nCOSTO\n\n\n\nContributo associativo
  per partecipare alla “singola” visita guidata comprensivo di vox (a
 uricolari):\n€20 Nuovi iscritti​\;​\n€19 Soci​\;​\n€18 Diver
 samente abili e loro accompagnatori\, ragazzi under 25 anni\;\n€16 Ragaz
 zi (11-18 anni)\;\n€15 Bambini (6-10 anni).\n*​Possessori di Coupons o
  Voucher Regalo dovranno integrare la differenza di 9 euro per poter part
 ecipare a questa visita e coprire le spese di prenotazione\, biglietto d'i
 ngresso e il noleggio dell'auricolare.\n\n\nNOTA BENE\nContributi di parte
 cipazione\, quote sociali e donazioni\, sono i principali strumenti di sos
 tentamento per un'associazione no-profit: questi servono a coprire le spes
 e annuali organizzative\, amministrative e di gestione ordinaria e a mante
 nere in vita il progetto sociale e culturale portato avanti dal direttivo\
 , consentendo di organizzare e promuovere sempre nuove attività per tutti
  i soci.\n \nPRENOTAZIONI \nLA VISITA VA PRENOTATA E SALDATA IN ANTICIPO
 \,\nper controllare se abbiamo ancora biglietti disponibili scrivere\ncomp
 ilando il modulo prenotazioni CLICCANDO SUL LINK: bit.ly/3x7jhDj \no in
 viando una mail a romaelazioxte@gmail.com\no scrivendo un SMS/WA (se si p
 renota nelle 24 ore che precedono l’evento) al 3315632913 oppure al 3
 383435907.\nINDICANDO:\ndata e titolo della visita\, nome e cognome di chi
  effettua la prenotazione\, numero dei partecipanti (specificando l'età d
 i eventuali bambini)\, numero di cellulare e indirizzo mail.\n***​La pre
 notazione si intende confermata alla ricezione del pagamento via bonifico
  bancario o via Postepay. In caso siate interessati invieremo le coordinat
 e per la conferma della prenotazione\, le prenotazioni verranno chiuse al 
 raggiungimento del numero massimo di partecipanti.\n\n\n\n\n\nITINERARIO 
 \nL'itinerario alla scoperta delle Mura Aureliane partirà da ​viale P
 retoriano dove entreremo nel camminamento di ronda recentemente riaperto 
 al pubblico​\, ​per poi proseguire e concludersi presso ​Porta San G
 iovanni​.​\n\n\nIl tratto restaurato in viale Pretoriano\, fu modifica
 to nel XVIII secolo per livellare l'antica orografia alle quote della citt
 à moderna\, e per la costruzione di Villa Gentili\, poi Dominici\, che po
 rtò alla trasformazione dell'antico camminamento di ronda in una passeggi
 ata con vista sulla città e sulla campagna romana\, cui oggi il restauro 
 della Sovrintendenza Capitolina ha restituito la situazione esistente nel 
 XVIII secolo.\nUsciti dal camminamento\, la visita proseguirà alla scoper
 ta dell'affascinante storia delle mura e delle sue altre porte e dei monum
 enti nati all'ombra delle possenti mura. Un'occasione unica per conoscere
  uno dei percorsi meno conosciuti dal turismo di massa ma ricco di storia\
 , arte e fascino.\n\n\n*Questi nuovi camminamenti vanno ad aggiungersi a q
 uelli già percorribili presso porta Asinaria e porta San Sebastiano e se
 gnano una nuova tappa di un iter di valorizzazione dell’antico circuito 
 difensivo teso a rendere fruibili e percorribili i circa 6 km del camminam
 ento di ronda\, tuttora conservato e percorribile.\n\n\nDISCLAIMER: foto 
 tratte dal Web (Scatti anonimi).\n
ATTACH;FMTTYPE=image/jpeg:https://lazioeventi.com/wp-content/uploads/2021/
 09/c-3-1-1.jpg
CATEGORIES:Arte e Cultura nel Lazio
LOCATION:Roma\, Via Leopardi\, Roma\, Roma\, Lazio\, Italia
GEO:41.8942;12.5017
X-APPLE-STRUCTURED-LOCATION;VALUE=URI;X-ADDRESS=Via Leopardi\, Roma\, Roma\
 , Lazio\, Italia;X-APPLE-RADIUS=100;X-TITLE=Roma:geo:41.8942,12.5017
END:VEVENT
BEGIN:VTIMEZONE
TZID:Europe/Rome
X-LIC-LOCATION:Europe/Rome
BEGIN:DAYLIGHT
DTSTART:20210328T030000
TZOFFSETFROM:+0100
TZOFFSETTO:+0200
TZNAME:CEST
END:DAYLIGHT
END:VTIMEZONE
END:VCALENDAR