BEGIN:VCALENDAR
VERSION:2.0
PRODID:-//wp-events-plugin.com//7.2.3.1//EN
TZID:Europe/Rome
X-WR-TIMEZONE:Europe/Rome
BEGIN:VEVENT
UID:27187@lazioeventi.com
DTSTART;TZID=Europe/Rome:20200810T210000
DTEND;TZID=Europe/Rome:20200810T230000
DTSTAMP:20200730T172017Z
URL:https://lazioeventi.com/eventi/camminando-sotto-le-stelle
SUMMARY:Camminando sotto le Stelle - Campagnano di Roma - 10 Agosto 20 21:0
 0
DESCRIPTION:Per la notte di San Lorenzo non prendete impegni\, andiamo insi
 eme a camminare e osserviamo le stelle cadenti! ? Campagnano Cammina\, co
 n il patrocinio del Comune di Campagnano e del Parco di Veio\, organizza u
 na "Camminata sotto le stelle" aperta
ATTACH;FMTTYPE=image/jpeg:https://lazioeventi.com/wp-content/uploads/2020/
 07/camminando-stelle.jpg
CATEGORIES:Sport, Tempo Libero e Divertimento nel Lazio
LOCATION:Campagnano di Roma\, Comune di Campagnano di Roma\, Campagnano di 
 Roma\, Roma\, Lazio\, Italia
GEO:42.1405;12.38
X-APPLE-STRUCTURED-LOCATION;VALUE=URI;X-ADDRESS=Comune di Campagnano di Rom
 a\, Campagnano di Roma\, Roma\, Lazio\, Italia;X-APPLE-RADIUS=100;X-TITLE=
 Campagnano di Roma:geo:42.1405,12.38
END:VEVENT
BEGIN:VTIMEZONE
TZID:Europe/Rome
X-LIC-LOCATION:Europe/Rome
BEGIN:DAYLIGHT
DTSTART:20200329T030000
TZOFFSETFROM:+0100
TZOFFSETTO:+0200
TZNAME:CEST
END:DAYLIGHT
END:VTIMEZONE
END:VCALENDAR