BEGIN:VCALENDAR
VERSION:2.0
PRODID:-//wp-events-plugin.com//7.2.3.1//EN
TZID:Europe/Rome
X-WR-TIMEZONE:Europe/Rome
BEGIN:VEVENT
UID:30822@lazioeventi.com
DTSTART;TZID=Europe/Rome:20220508T090000
DTEND;TZID=Europe/Rome:20220508T140000
DTSTAMP:20220505T164805Z
URL:https://lazioeventi.com/eventi/camminare-verso-la-musica
SUMMARY:Camminare verso la musica - Vallecorsa - 8 Maggio 22 09:00
DESCRIPTION:Camminare verso la musica\, domenica 8 maggio e domenica 12 giu
 gno due eventi musicali nelle aree naturali protette dei Monti Aurunci e d
 ei Monti Ausoni\n\nL’iniziativa patrocinata dall’Ente Parco Naturale R
 egionale Monti Ausoni e Lago di Fondi è una rassegna di due eventi propos
 ti dall’Associazione di Promozione Sociale Ginepro Art per promuovere la
  cultura ed un turismo sostenibile attraverso l’unione dello sport e del
 l’arte\, in questo caso la musica\, alla natura.\n\nIl primo evento dell
 a rassegna si svolgerà domenica 8 maggio 2022 presso i Ruderi di Acquaviv
 a- Vallecorsa (LT) con partenza a piedi da La Quercia del Monaco\; il seco
 ndo domenica 12 giugno presso Orto Botanico/Santa Maria Romana- Fondi (LT)
  con partenza a piedi dalla sbarra sita in via Le Querce.\n\nL’appuntame
 nto per la camminata è alle ore 9.00 per raggiungere il sito dove\, alle 
 11.00\, si svolgerà il concerto del South Zone Saxophone Quartet. Alla fi
 ne del concerto\, alle ore 12.00\, si ripartirà per il rientro al punto d
 i partenza\, previsto per le ore 13.30. Come per ogni camminata in montagn
 a\, è consigliato indossare abbigliamento comodo e scarpe adatte\, portar
 e con sé acqua e spuntino a scelta secondo le proprie esigenze.\n\nGli ev
 enti sono organizzati con il supporto dell’Associazioni Fare Verde Fondi
  e la Polisportiva Olimpia Lazio. La Rassegna è\, inoltre\, patrocinata d
 al Comune di Fondi\, Comune di Vallecorsa\, Ente Parco Naturale Regionale 
 dei Monti Aurunci.\n\nIl South Zone Saxophone Quartet è un quartetto di s
 assofoni attivo dal 2009 e composto da sassofonisti del sud pontino quali 
 Luciano Bonanni\, sax soprano - Danilo Florimondo Lidano\, sax contralto -
  Armando Mancini\, sax tenore e Laura Venditti\, sax baritono. Vincitori d
 i diversi concorsi musicali\, si sono esibiti in diversi festival e rasseg
 ne. Hanno all’attivo due lavori discografici\, il primo dal titolo Other
  Size contiene arrangiamenti di standard jazz\; il secondo dal titolo Gli 
 alberi 2.0\, contiene musiche originali di Michele Venditti. Il loro reper
 torio spazia dagli standard jazz\, pop\, rock\, folk e colonne sonore.\n\n
 L'evento nel Parco Naturale dei Monti Aurunci si svolgerà domenica 12 giu
 gno con la visita all'Orto Botanico con partenza dalla sbarra di via le Qu
 erce
ATTACH;FMTTYPE=image/jpeg:https://lazioeventi.com/wp-content/uploads/2022/
 05/camminare-musica.jpg
CATEGORIES:Musica, Spettacoli e Danza nel Lazio,Sport, Tempo Libero e
 Divertimento nel Lazio
LOCATION:Vallecorsa\, Comune\, Vallecorsa\, Frosinone\, Lazio\, Italia
GEO:41.4445;13.4056
X-APPLE-STRUCTURED-LOCATION;VALUE=URI;X-ADDRESS=Comune\, Vallecorsa\, Frosi
 none\, Lazio\, Italia;X-APPLE-RADIUS=100;X-TITLE=Vallecorsa:geo:41.4445,13
 .4056
END:VEVENT
BEGIN:VTIMEZONE
TZID:Europe/Rome
X-LIC-LOCATION:Europe/Rome
BEGIN:DAYLIGHT
DTSTART:20220327T030000
TZOFFSETFROM:+0100
TZOFFSETTO:+0200
TZNAME:CEST
END:DAYLIGHT
END:VTIMEZONE
END:VCALENDAR