BEGIN:VCALENDAR
VERSION:2.0
PRODID:-//wp-events-plugin.com//7.2.3.1//EN
TZID:Europe/Rome
X-WR-TIMEZONE:Europe/Rome
BEGIN:VEVENT
UID:32816@lazioeventi.com
DTSTART;TZID=Europe/Rome:20221030T093000
DTEND;TZID=Europe/Rome:20221030T120000
DTSTAMP:20221025T072114Z
URL:https://lazioeventi.com/eventi/camminata-tra-gli-olivi-allumiere
SUMMARY:Camminata tra gli Olivi - Allumiere - 30 Ottobre 22 09:30
DESCRIPTION:La Camminata tra gli olivi sarà accompagnata da un pranzo con 
 prodotti tipici locali.\n\nOltre alla possibilità di degustare l'olio loc
 ale sul tipico pane giallo di Allumiere\, il menù prevede la pasta di far
 ina senatore cappelli realizzata con grano coltivato ad Allumiere\, nelle 
 piane del fiume Mignone\, visibili dal punto di ristoro\, con ragù di car
 ne maremmana allevata sui colli del paese.\n\nA seguire\, carne alla brace
  con contorno\, acqua vino e dolci secchi preparati dai panifici locali.\n
 Prezzo fisso.\n\nPer info e prenotazioni(obbligatoria per il pranzo): mess
 aggio facebook\, telefono 076696010 int 235\, m.maffei@comune.allimiere.rm
 .it\, +393290147733
ATTACH;FMTTYPE=image/jpeg:https://lazioeventi.com/wp-content/uploads/2022/
 10/camminata-olivi-allumiere.jpg
CATEGORIES:Sport, Tempo Libero e Divertimento nel Lazio
LOCATION:Allumiere\, Comune\, Allumiere\, Roma\, Lazio\, Italia
GEO:42.1563;11.9021
X-APPLE-STRUCTURED-LOCATION;VALUE=URI;X-ADDRESS=Comune\, Allumiere\, Roma\,
  Lazio\, Italia;X-APPLE-RADIUS=100;X-TITLE=Allumiere:geo:42.1563,11.9021
END:VEVENT
BEGIN:VTIMEZONE
TZID:Europe/Rome
X-LIC-LOCATION:Europe/Rome
BEGIN:STANDARD
DTSTART:20221030T020000
TZOFFSETFROM:+0200
TZOFFSETTO:+0100
TZNAME:CET
END:STANDARD
END:VTIMEZONE
END:VCALENDAR