BEGIN:VCALENDAR
VERSION:2.0
PRODID:-//wp-events-plugin.com//7.2.3.1//EN
TZID:Europe/Rome
X-WR-TIMEZONE:Europe/Rome
BEGIN:VEVENT
UID:26652@lazioeventi.com
DTSTART;VALUE=DATE:20200808
DTEND;VALUE=DATE:20200816
DTSTAMP:20200612T142208Z
URL:https://lazioeventi.com/eventi/campionato-italiano-fuochi-di-artificio
 -stelle-di-fuoco
SUMMARY:Campionato italiano fuochi di artificio - Stelle di Fuoco - Roma - 
 8 Agosto 20 00:00
DESCRIPTION:Salite sul carro delle emozioni\, a Cinecittà World torna lo s
 traordinario spettacolo di Stelle di Fuoco\, il Campionato Italiano di Fuo
 chi d’Artificio  A Roma l’agosto 2020 esplode di colori da sabato 08 
 a sabato 15 con i fuochi più belli e pot
ATTACH;FMTTYPE=image/jpeg:https://lazioeventi.com/wp-content/uploads/2020/
 06/Campionato-x-web.png
CATEGORIES:Sport, Tempo Libero e Divertimento nel Lazio
LOCATION:Roma\, Via Leopardi\, Roma\, Roma\, Lazio\, Italia
GEO:41.8942;12.5017
X-APPLE-STRUCTURED-LOCATION;VALUE=URI;X-ADDRESS=Via Leopardi\, Roma\, Roma\
 , Lazio\, Italia;X-APPLE-RADIUS=100;X-TITLE=Roma:geo:41.8942,12.5017
END:VEVENT
END:VCALENDAR