BEGIN:VCALENDAR
VERSION:2.0
PRODID:-//wp-events-plugin.com//7.2.3.1//EN
TZID:Europe/Rome
X-WR-TIMEZONE:Europe/Rome
BEGIN:VEVENT
UID:41624@lazioeventi.com
DTSTART;TZID=Europe/Rome:20250818T200000
DTEND;TZID=Europe/Rome:20250818T230000
DTSTAMP:20250521T134018Z
URL:https://lazioeventi.com/eventi/cantinatina
SUMMARY:CantinAtina - Atina - 18 Agosto 25 20:00
DESCRIPTION:CantinAtina 2025\nXXIII edizione di CantinAtina – Sagra del C
 abernet DOC e dei Vini Locali – Atina 2025!\n\nUnisciti a noi per un’e
 sperienza indimenticabile tra i vicoli di Atina!\n\nVivi l’atmosfera fes
 tosa della nostra Sagra\, dove tradizione e divertimento si incontrano per
  regalarti una giornata unica.\n\nCosa ti aspetta:\n- Degustazioni di Vini
 : Scopri le eccellenze del Consorzio Atina Cabernet DOP\, con un focus sul
  rinomato Cabernet di Atina.\n- Stand Gastronomici: Delizia il tuo palato 
 con piatti tradizionali e innovazioni culinarie.\n- Musica Live & DJ Set: 
 Lasciati trasportare dalla musica dal vivo e scatenati con i nostri DJ set
 !\n\nNon perdere questa straordinaria sagra! Invita i tuoi amici e vieni a
  brindare con noi!\n\nTi aspettiamo!
ATTACH;FMTTYPE=image/jpeg:https://lazioeventi.com/wp-content/uploads/2025/
 05/cantinatina-2024-e1747834772980.webp
CATEGORIES:Sagre, Gastronomia e Tradizioni nel Lazio
LOCATION:Atina\, Comune\, Atina\, Frosinone\, Lazio\, Italia
GEO:41.6344;13.7876
X-APPLE-STRUCTURED-LOCATION;VALUE=URI;X-ADDRESS=Comune\, Atina\, Frosinone\
 , Lazio\, Italia;X-APPLE-RADIUS=100;X-TITLE=Atina:geo:41.6344,13.7876
END:VEVENT
BEGIN:VTIMEZONE
TZID:Europe/Rome
X-LIC-LOCATION:Europe/Rome
BEGIN:DAYLIGHT
DTSTART:20250330T030000
TZOFFSETFROM:+0100
TZOFFSETTO:+0200
TZNAME:CEST
END:DAYLIGHT
END:VTIMEZONE
END:VCALENDAR