BEGIN:VCALENDAR
VERSION:2.0
PRODID:-//wp-events-plugin.com//7.2.3.1//EN
TZID:Europe/Rome
X-WR-TIMEZONE:Europe/Rome
BEGIN:VEVENT
UID:24740@lazioeventi.com
DTSTART:20220910T193000Z
DTEND:20220910T223000Z
DTSTAMP:20220908T154054Z
URL:https://lazioeventi.com/eventi/cantine-riaperte
SUMMARY:Cantine RiAperte - Fumone - 10 Settembre 22 20:30
DESCRIPTION:Attraverso la manifestazione organizzata dalla Pro Loco\, migli
 aia di persone possono apprezzare la cucina tipica locale servita nelle ve
 cchie cantine e nelle vie più caratteristiche del borgo\, e divertirsi fi
 no a tarda notte con canti e balli eseguiti da gruppi folk locali.\n\nSaba
 to 10 Settembre 2022 a Fumone appuntamento con Le Cantine RiAperte in Piaz
 za Santa Maria Annunziata dalle ore 20.30. Intrattenimento musicale con 
 “I tanto pe Cantà” e “ItinerantiHernicantus“.
ATTACH;FMTTYPE=image/jpeg:https://lazioeventi.com/wp-content/uploads/2019/
 07/cantine_riaperte_fumone.jpg
CATEGORIES:Sagre, Gastronomia e Tradizioni nel Lazio
LOCATION:Fumone\, Comune di Fumone\, Fumone\, Frosinone\, Lazio\, Italia
GEO:41.7278;13.2895
X-APPLE-STRUCTURED-LOCATION;VALUE=URI;X-ADDRESS=Comune di Fumone\, Fumone\,
  Frosinone\, Lazio\, Italia;X-APPLE-RADIUS=100;X-TITLE=Fumone:geo:41.7278,
 13.2895
END:VEVENT
END:VCALENDAR