BEGIN:VCALENDAR
VERSION:2.0
PRODID:-//wp-events-plugin.com//7.2.3.1//EN
TZID:Europe/Rome
X-WR-TIMEZONE:Europe/Rome
BEGIN:VEVENT
UID:41421@lazioeventi.com
DTSTART;TZID=Europe/Rome:20250518T200000
DTEND;TZID=Europe/Rome:20250518T220000
DTSTAMP:20250505T161000Z
URL:https://lazioeventi.com/eventi/cantus-dei-voci-delleternita
SUMMARY:Cantus Dei - Voci dell’eternità - Roma - 18 Maggio 25 20:00
DESCRIPTION:Cinque concerti che spaziano nell’evoluzione della musica sac
 ra\, in dialogo fra passato e presente\, ospitati nel più antico luogo di
  culto cristiano del centro di Roma\, la Basilica Paleocristiana di San Vi
 tale: dal 4 maggio al 22 giugno la rassegna “Cantus Dei - Voci dell’et
 ernità”\, presentata da E45 nel contesto del Festival di Musica Sacra r
 ealizzato con il contributo della Regione Lazio\, regala grandi emozioni m
 usicali firmate dal Maestro Emanuele Stracchi.\n\nDa sempre dedita all'ind
 agare le possibilità di dialogo tra il repertorio musicale classico e que
 llo contemporaneo\, E45 propone questa rilettura del presente attraverso l
 ’esplorazione di un genere aulico e raffinato\, la musica sacra: sarà i
 l Maestro Stracchi\, autore e compositore di colonne sonore per film e tea
 tro\, nonché insegnante di Conservatorio\, a dirigere i vari ensemble che
  si alterneranno fino al 22 giugno. \n\nLa rassegna prevede anche l'esecuz
 ione di due prime assolute\, entrambe composte dal M°Stracchi appositamen
 te in occasione del Festival di Musica Sacra: "Mysterium" in programma il 
 18 maggio e "O alto e glorioso Dio"\, prevista il 1° giugno.\n\n«In occa
 sione del Giubileo 2025 con E45 abbiamo voluto dare vita a un progetto che
  esplora la profondità e la bellezza della musica sacra\, un repertorio c
 he considero una delle espressioni più alte e universali dello spirito um
 ano - ha dichiarato il Maestro Stracchi\, curatore\, musicista e direttore
  della rassegna “Cantus Dei. Voci dall’Eternità” -  Si tratta di un
  percorso musicale e spirituale in un contesto unico e straordinario. Ogni
  concerto sarà un’esperienza diversa\, un viaggio tra epoche e stili\, 
 dall’intensità del Rinascimento alla sensibilità contemporanea\, con p
 rime esecuzioni assolute che desidero condividere con il pubblico. Ciò ch
 e mi ha guidato è stata la volontà di proporre una riflessione musicale 
 che sappia dialogare con la storia ma anche parlare al presente\, mantenen
 do vivo il patrimonio della musica sacra attraverso una prospettiva attual
 e.»\n\nAd aprire la rassegna il 4 maggio\, il concerto “Stabat Mater. M
 aria dolente tra classico e contemporaneo”\, un dialogo tra passato e pr
 esente che accosta l’opera di Pergolesi allo Stabat Mater del Maestro St
 racchi del 2024. \n\nIl 18 maggio si prosegue con “Mysterium. Amor Sacro
 ”\, che nasce dalla volontà di esplorare il repertorio barocco come una
  sorta di preghiera sonora\, con la prima assoluta dell’esecuzione di 
 “Mysterium”\, brano composto dal Maestro appositamente per la voce di 
 Eleonora Aleotti ed il suo cembalo. \n\nIl 1 giugno sarà poi la volta di 
 “Franciscus. Tra Luce e Speranza”\, esecuzione dedicata alla spiritual
 ità francescana e al suo etereo legame con la Natura\, in cui è incluso 
 il secondo brano composto da Stracchi per il Festival\,  “O alto e glori
 oso Dio”. \n\nLa rassegna continua il 15 giugno con “Haydn Sacro. Le u
 ltime sette parole di Cristo sulla croce”\, un concerto che esplora la m
 editazione contemplativa della Passione. \n\nChiude infine l’iniziativa 
 il 22 giugno “Antiqua Sacra Imago. Il suono della spiritualità”\, una
  duplice prospettiva tra antiche immagini simboliche e composizioni corali
  contemporanee. \n\nIl Maestro Stracchi ha conquistato diversi premi prest
 igiosi\, tra cui il primo premio nella categoria Composizione al NY Global
  Music Competition nel 2022. Alcune sue partiture sono state eseguite pres
 so enti illustri come Rai Radio 3 e all’estero (USA\, UK\, Svezia\, Croa
 zia\, Svizzera\, Romania). Emanuele Stracchi è pianista\, compositore e d
 irettore. Diplomato in pianoforte\, composizione\, musica applicata\, dire
 zione del repertorio vocale e sacro.\n\nI concerti avranno luogo presso la
  Basilica paleocristiana di San Vitale al Quirinale in via Nazionale\, 194
 b alle ore 20:00. \n\nL’ingresso agli eventi è gratuito.\n\nInfo su:\nh
 ttps://www.e45.it/ \nhttps://www.instagram.com/e.quarantacinque/?locale=en
 -US\nhttps://www.facebook.com/e.quarantacinque 
ATTACH;FMTTYPE=image/jpeg:https://lazioeventi.com/wp-content/uploads/2025/
 05/Basilica-Paleocristiana-di-San-Vitale-courtesy-of-the-artist.jpeg
CATEGORIES:Musica, Spettacoli e Danza nel Lazio
LOCATION:Roma\, Via Leopardi\, Roma\, Roma\, Lazio\, Italia
GEO:41.8942;12.5017
X-APPLE-STRUCTURED-LOCATION;VALUE=URI;X-ADDRESS=Via Leopardi\, Roma\, Roma\
 , Lazio\, Italia;X-APPLE-RADIUS=100;X-TITLE=Roma:geo:41.8942,12.5017
END:VEVENT
BEGIN:VTIMEZONE
TZID:Europe/Rome
X-LIC-LOCATION:Europe/Rome
BEGIN:DAYLIGHT
DTSTART:20250330T030000
TZOFFSETFROM:+0100
TZOFFSETTO:+0200
TZNAME:CEST
END:DAYLIGHT
END:VTIMEZONE
END:VCALENDAR