BEGIN:VCALENDAR
VERSION:2.0
PRODID:-//wp-events-plugin.com//7.2.3.1//EN
TZID:Europe/Rome
X-WR-TIMEZONE:Europe/Rome
BEGIN:VEVENT
UID:42505@lazioeventi.com
DTSTART;TZID=Europe/Rome:20250927T210000
DTEND;TZID=Europe/Rome:20250928T210000
DTSTAMP:20250922T045801Z
URL:https://lazioeventi.com/eventi/canzoni-in-forma-di-nuvole
SUMMARY:Canzoni in forma di Nuvole - Roma - 27 Settembre 25 21:00
DESCRIPTION:Cento Storie per Sergio Endrigo e Jacques Brel\n\nUno spettacol
 o musicale di e con GIANNI DE FEO\nTesto di Ennio Speranza\nAlla fisarmoni
 ca Marcello Fiorini\nAllestimento scenografico e costumi Roberto Rinaldi\n
 Produzione: Florian Metateatro\n\nUn evento molto speciale\, all’insegna
  della musica d’autore\, precede l’inizio ufficiale della nuova stagio
 ne di Teatrosophia. Protagonista assoluto sarà Gianni De Feo\, artista po
 liedrico che con la sua voce di attore e di cantante sa catalizzare le cor
 de più profonde che smuovono le emozioni del pubblico\n\nDue cantautori a
  confronto\, accomunati dallo stesso gusto per l’avventura e dal loro es
 sere sognatori. L’irrequieto e apparentemente impetuoso Jacques Brel e i
 l pacato e apparentemente elegiaco Sergio Endrigo\, entrambi portatori di 
 quella cifra poetica che rende tutti gli artisti unici e riconoscibili. Al
 cune delle loro canzoni più note (e le meno note) riproposte in un nuovo 
 stile di arrangiamento musicale per solo voce e fisarmonica\, si intreccia
 no al ritmo cadenzato delle storie costituendone il sottile filo conduttor
 e. Storie leggere oniriche fluttuanti come nuvole passeggere. Storie racco
 ntate da un uomo comune immerso nell’ attesa di qualcosa. Un’attesa ch
 e è indugio\, sospensione ma anche distensione e appagamento.\nE dopo ogn
 i spettacolo il consueto aperitivo offerto dal teatro!\n\nOrari:\nsabato 2
 7 - ore 21:00 e domenica 28 - ore 19.00\n\nBiglietti:\nIntero: euro 15\,00
  + tessera associativa\nRidotto: euro 12\,00 + tessera associativa\n\nPren
 otazioni:\nhttps://www.teatrosophia.it/index.php?view=article&amp\;id=88&a
 mp\;catid=9\n\nN.B: Per accedere alla prenotazione è necessaria la regist
 razione all’Associazione Culturale Teatrosophia per la sottoscrizione de
 lla tessera associativa che sarà valida per tutta la stagione 2025/2026.
ATTACH;FMTTYPE=image/jpeg:https://lazioeventi.com/wp-content/uploads/2025/
 09/Locandina-De-Feo.jpeg
CATEGORIES:Musica, Spettacoli e Danza nel Lazio
LOCATION:Roma\, Via Leopardi\, Roma\, Roma\, Lazio\, Italia
GEO:41.8942;12.5017
X-APPLE-STRUCTURED-LOCATION;VALUE=URI;X-ADDRESS=Via Leopardi\, Roma\, Roma\
 , Lazio\, Italia;X-APPLE-RADIUS=100;X-TITLE=Roma:geo:41.8942,12.5017
END:VEVENT
BEGIN:VTIMEZONE
TZID:Europe/Rome
X-LIC-LOCATION:Europe/Rome
BEGIN:DAYLIGHT
DTSTART:20250330T030000
TZOFFSETFROM:+0100
TZOFFSETTO:+0200
TZNAME:CEST
END:DAYLIGHT
END:VTIMEZONE
END:VCALENDAR