BEGIN:VCALENDAR
VERSION:2.0
PRODID:-//wp-events-plugin.com//7.2.3.1//EN
TZID:Europe/Rome
X-WR-TIMEZONE:Europe/Rome
BEGIN:VEVENT
UID:35998@lazioeventi.com
DTSTART;TZID=Europe/Rome:20230715T211500
DTEND;TZID=Europe/Rome:20230717T230000
DTSTAMP:20230625T155227Z
URL:https://lazioeventi.com/eventi/caposele-che-spettacolo-3
SUMMARY:Caposele... che spettacolo! - Formia - 15 Luglio 23 21:15
DESCRIPTION:FORMIA - “CAPOSELE… CHE SPETTACOLO!” -\nun’estate di cu
 ltura e divertimento\n\nLo scenario è quello suggestivo dell’area arche
 ologica di Caposele. Una terrazza affacciata sul mare\, sotto la luna e le
  stelle\, per entrare nel cuore dell’estate attraverso le porte girevoli
  della storia. Il programma\, non a caso\, è finanziato dalla Regione Laz
 io nell’ambito del bando per la valorizzazione dei siti storici regional
 i.\n\nMusica e teatro\, in una alternanza di spettacoli\, tutti di grande 
 qualità.\nIl programma riprende e amplia due rassegne che negli ultimi an
 ni hanno raccolto successo di pubblico e di critica: il Jazzflirt Festival
  che soffia quest’anno sulla diciannovesima candelina\, e il Festival de
 l Teatro Classico\, giunto alla sua ottava edizione.\n\nSi prosegue sabato
  15 luglio con un grande classico della commedia greca\, “Le nuvole” d
 i Aristofane\, adattamento e regia di Vincenzo Zingaro. Un’occasione uni
 ca per immergersi nel meraviglioso mondo della commedia attica antica\, di
  cui Zingaro recupera lo spirito più autentico attraverso l’uso delle m
 aschere.\n\nLunedì 17 luglio è il turno del carismatico sassofonista e c
 ompositore americano James Brandon Lewis. Il musicista di Buffalo\, New Yo
 rk\, è considerato uno dei più creativi talenti del jazz afroamericano. 
 Presenterà il suo terzo album\, “Unruly Manifesto”. Apertura del conc
 erto affidata a “She’s analog”\, trio di chitarra\, rhodes e batteri
 a.\nCALENDARIO XIX EDIZIONE FESTIVAL JAZZFLIRT\nLunedi 17 luglio 2023 - or
 e 21.15\nJAMES BRANDON LEWIS\n“Unruly Manifesto”\nJames Brandon Lewis\
 , tenor sax\nKirk Knuffke\, cornet\nAnthony Pirog\, guitar\nShahzad Ismail
 y\, guitar\, bass\, electronics\nChes Smith\, drums\nApertura concerto: Sh
 e's Analog -\nStefano Calderano - guitar\, effects\nLuca Sguera - rhodes\,
  prophet\nGiovanni Iacovella - drums\nCALENDARIO VIII EDIZIONE FESTIVAL TE
 ATRO CLASSICO\nSabato 15 LUGLIO 2023 (ore 21\,30) – Area Archeologica di
  Caposele\nLE NUVOLE di Aristofane\nAdattamento e Regia Vincenzo Zingaro\n
 Con Fabrizio Passerini\, Piero Sarpa\, Riccardo Graziosi\, Rocco Militano\
 , Laura De Angelis\, Sina Sebastiani\, Valeria Spada
ATTACH;FMTTYPE=image/jpeg:https://lazioeventi.com/wp-content/uploads/2023/
 06/caposele-che-spettacolo.webp
CATEGORIES:Musica, Spettacoli e Danza nel Lazio
LOCATION:Formia\, Comune\, Formia\, Latina\, Lazio\, Italia
GEO:41.2559;13.6059
X-APPLE-STRUCTURED-LOCATION;VALUE=URI;X-ADDRESS=Comune\, Formia\, Latina\, 
 Lazio\, Italia;X-APPLE-RADIUS=100;X-TITLE=Formia:geo:41.2559,13.6059
END:VEVENT
BEGIN:VTIMEZONE
TZID:Europe/Rome
X-LIC-LOCATION:Europe/Rome
BEGIN:DAYLIGHT
DTSTART:20230326T030000
TZOFFSETFROM:+0100
TZOFFSETTO:+0200
TZNAME:CEST
END:DAYLIGHT
END:VTIMEZONE
END:VCALENDAR