BEGIN:VCALENDAR
VERSION:2.0
PRODID:-//wp-events-plugin.com//7.2.3.1//EN
TZID:Europe/Rome
X-WR-TIMEZONE:Europe/Rome
BEGIN:VEVENT
UID:41448@lazioeventi.com
DTSTART;TZID=Europe/Rome:20250508T110000
DTEND;TZID=Europe/Rome:20250511T180000
DTSTAMP:20250507T112406Z
URL:https://lazioeventi.com/eventi/carciofo-ortano-fest
SUMMARY:Carciofo Ortano Fest - Orte - 8 Maggio 25 11:00
DESCRIPTION:8-11 MAGGIO | Emozioni\, musica\, cucina e tanta energia!\n4 GI
 ORNI di pura magia: 8 MAGGIO – grande apertura\nSpettacoli \, musica liv
 e \, aperitivi e musica sotto le stelle\n\nCome ogni anno festeggiamo il r
 accolto del carciofo ORTANO con i migliori ristoratori di Orte che interpr
 etano il carciofo tra tradizione ed innovazione. \nChiudiamo i festeggiame
 nti a maggio con un Festival in cui celebriamo la stagione conclusa con St
 and Gastronomico e tanto altro...\n\nDove? ORTE parcheggio Molegnano\nIngr
 esso libero\n\nIl carciofo nelle campagne laziali è conosciuto sin da epo
 ca romana\, probabilmente già dagli etruschi. Nei tempi moderni la coltiv
 azione è praticata nel territorio ortano che è caratterizzato dalla orog
 rafia della Media Valle del Tevere\, che corre sul limite tra i terreni vu
 lcanici ad Ovest\, verso i monti Cimini e i terreni calcarei ad Est verso 
 l’Appennino Umbro. \n\nIn questa zona\, le antichissime attività vulcan
 iche combinate con l’azione erosiva e alluvionale del fiume Tevere\, han
 no generato terreni morbidi e fertili che hanno determinato lo sviluppo ag
 ricolo e la formazione di insediamenti umani sugli speroni tufacei fin dal
 l’antichità. Il clima mite di transizione fra quello mediterraneo\, cal
 do e asciutto\, e quello continentale appenninico\, più umido e freddo\, 
 ha senz’altro favorito le condizioni ideali alla coltivazione del carcio
 fo e più in generale di piante orticole da cui alcuni ritengono derivi l
 ’origine del nome della città. 
ATTACH;FMTTYPE=image/jpeg:https://lazioeventi.com/wp-content/uploads/2025/
 05/carciofo-ortano.jpg
CATEGORIES:Sagre, Gastronomia e Tradizioni nel Lazio,Sport, Tempo Libero e
 Divertimento nel Lazio
LOCATION:Orte\, Comune di Orte\, Orte\, Viterbo\, Lazio\, Italia
GEO:42.4605;12.3862
X-APPLE-STRUCTURED-LOCATION;VALUE=URI;X-ADDRESS=Comune di Orte\, Orte\, Vit
 erbo\, Lazio\, Italia;X-APPLE-RADIUS=100;X-TITLE=Orte:geo:42.4605,12.3862
END:VEVENT
BEGIN:VTIMEZONE
TZID:Europe/Rome
X-LIC-LOCATION:Europe/Rome
BEGIN:DAYLIGHT
DTSTART:20250330T030000
TZOFFSETFROM:+0100
TZOFFSETTO:+0200
TZNAME:CEST
END:DAYLIGHT
END:VTIMEZONE
END:VCALENDAR