BEGIN:VCALENDAR
VERSION:2.0
PRODID:-//wp-events-plugin.com//7.2.3.1//EN
TZID:Europe/Rome
X-WR-TIMEZONE:Europe/Rome
BEGIN:VEVENT
UID:34139@lazioeventi.com
DTSTART;TZID=Europe/Rome;VALUE=DATE:20230218
DTEND;TZID=Europe/Rome;VALUE=DATE:20230222
DTSTAMP:20230216T115433Z
URL:https://lazioeventi.com/eventi/carnevale-a-boville-ernica
SUMMARY:Carnevale a Boville Ernica - Boville Ernica - 18 Febbraio 23 00:00
DESCRIPTION:L’Amministrazione comunale e l’Istituto comprensivo\, in co
 llaborazione con l’associazione Pro Loco\, hanno organizzato una serie d
 i appuntamenti che coinvolgeranno scolari e famiglie: il 18 e 19 febbraio 
 tiro al formaggio\, il 20 febbraio la sfilata delle maschere e il 21 magia
 \, giocoleria e zucchero filato  \n\nUna grandissima sfilata delle mascher
 e e delle coreografie realizzate dalla scuola con premiazione finale: è q
 uesto l’evento principale del Carnevale\, organizzato dal Comune di Bovi
 lle Ernica e dall’Istituto comprensivo in collaborazione con l’associa
 zione Pro Loco. \n\nUna edizione\, quella del 2023\, che vede nel tabellon
 e degli eventi ben tre appuntamenti: sabato e domenica 18 e 19 febbraio\, 
 a partire dalle 14:30\, si svolgerà la tradizionale gara di tiro al forma
 ggio nei vicoli del centro storico a cura della Pro Loco\; lunedì 20 febb
 raio 2023 l’evento clou\, dalle 9:30 alle 13:30 in piazza Sant’Angelo 
 si terrà la “Sfilata di maschere con festa in piazza”: il corteo degl
 i alunni dell’Istituto comprensivo di Boville Ernica partirà dalla sede
  della scuola secondaria di I grado (scuola media Armellini) e attraverser
 à le vie del paese fino a raggiungere il centro storico per festeggiare t
 utti insieme in piazza Sant’Angelo\, seguirà la premiazione del miglior
  gruppo coreografico\; martedì 21 febbraio 2023\, a partire dalle 15\, l
 ’ultimo appuntamento presso il museo civico dal tema “Pomeriggio in ma
 schera” con spettacolo di magia\, giocoleria e zucchero filato per tutti
  i bambini.\n
ATTACH;FMTTYPE=image/jpeg:https://lazioeventi.com/wp-content/uploads/2023/
 02/LOCANDINA-CARNEVALE-BOVILLE-2023.jpg
CATEGORIES:Sport, Tempo Libero e Divertimento nel Lazio
LOCATION:Boville Ernica\, Comune\, Boville Ernica\, Frosinone\, Lazio\, Ita
 lia
GEO:41.643;13.4708
X-APPLE-STRUCTURED-LOCATION;VALUE=URI;X-ADDRESS=Comune\, Boville Ernica\, F
 rosinone\, Lazio\, Italia;X-APPLE-RADIUS=100;X-TITLE=Boville Ernica:geo:41
 .643,13.4708
END:VEVENT
BEGIN:VTIMEZONE
TZID:Europe/Rome
X-LIC-LOCATION:Europe/Rome
BEGIN:STANDARD
DTSTART:20221030T020000
TZOFFSETFROM:+0200
TZOFFSETTO:+0100
TZNAME:CET
END:STANDARD
END:VTIMEZONE
END:VCALENDAR