BEGIN:VCALENDAR
VERSION:2.0
PRODID:-//wp-events-plugin.com//7.2.3.1//EN
TZID:Europe/Rome
X-WR-TIMEZONE:Europe/Rome
BEGIN:VEVENT
UID:33993@lazioeventi.com
DTSTART;TZID=Europe/Rome:20230212T150000
DTEND;TZID=Europe/Rome:20230212T180000
DTSTAMP:20230203T162800Z
URL:https://lazioeventi.com/eventi/carnevale-a-canneto
SUMMARY:Carnevale a Canneto - Fara in Sabina - 12 Febbraio 23 15:00
DESCRIPTION:Coriandoli\, dolci e scherzetti caratterizzeranno un carnevale 
 che colorerà le frazioni della Città di Fara in Sabina in un'atmosfera d
 i grande divertimento e allegria.\n\nE per chi vuole tuffarsi nel passato\
 , i Musei sono il luogo giusto per voi\, non mancate presso il Museo Civic
 o Archeologico\, il Museo del Silenzio di Fara in Sabina e la splendida Ab
 bazia di Farfa.\n\nTra feste in maschera e sfilate tipiche carnevalesche
 \, tra party\, musica e laboratori a tema per bambini e famiglie\, c'è d
 avvero tanto da fare.
ATTACH;FMTTYPE=image/jpeg:https://lazioeventi.com/wp-content/uploads/2023/
 02/carnevale-sabino.jpg
CATEGORIES:Sport, Tempo Libero e Divertimento nel Lazio
LOCATION:Fara in Sabina\, Comune\, Fara in Sabina\, Rieti\, Lazio\, Italia
GEO:42.2099;12.7291
X-APPLE-STRUCTURED-LOCATION;VALUE=URI;X-ADDRESS=Comune\, Fara in Sabina\, R
 ieti\, Lazio\, Italia;X-APPLE-RADIUS=100;X-TITLE=Fara in Sabina:geo:42.209
 9,12.7291
END:VEVENT
BEGIN:VTIMEZONE
TZID:Europe/Rome
X-LIC-LOCATION:Europe/Rome
BEGIN:STANDARD
DTSTART:20221030T020000
TZOFFSETFROM:+0200
TZOFFSETTO:+0100
TZNAME:CET
END:STANDARD
END:VTIMEZONE
END:VCALENDAR