BEGIN:VCALENDAR
VERSION:2.0
PRODID:-//wp-events-plugin.com//7.2.3.1//EN
TZID:Europe/Rome
X-WR-TIMEZONE:Europe/Rome
BEGIN:VEVENT
UID:38379@lazioeventi.com
DTSTART;TZID=Europe/Rome:20240204T133000
DTEND;TZID=Europe/Rome:20240204T170000
DTSTAMP:20240126T121004Z
URL:https://lazioeventi.com/eventi/carnevale-a-testa-di-lepre
SUMMARY:Carnevale a Testa di Lepre - Fiumicino - 4 Febbraio 24 13:30
DESCRIPTION:Il 4 febbraio dalle 13\,30  a Testa di Lepre la quarta edizione
  del  carnevale. 4 carri meravigliosi\, 200 persone in maschera a formare 
 i 4 cortei. \n\nApre la sfilata Edy La Gatta Nera con ballerine brasiliane
  in costume tipico. In piazza musica con i fratelli Hernandez e altre attr
 attive. \n\nStand gastronomici.
ATTACH;FMTTYPE=image/jpeg:https://lazioeventi.com/wp-content/uploads/2024/
 01/carnevale-testa-di-lepre.jpg
CATEGORIES:Sport, Tempo Libero e Divertimento nel Lazio
LOCATION:Fiumicino\, Comune\, Fiumicino\, Roma\, Lazio\, Italia
GEO:41.8026;12.2551
X-APPLE-STRUCTURED-LOCATION;VALUE=URI;X-ADDRESS=Comune\, Fiumicino\, Roma\,
  Lazio\, Italia;X-APPLE-RADIUS=100;X-TITLE=Fiumicino:geo:41.8026,12.2551
END:VEVENT
BEGIN:VTIMEZONE
TZID:Europe/Rome
X-LIC-LOCATION:Europe/Rome
BEGIN:STANDARD
DTSTART:20231029T020000
TZOFFSETFROM:+0200
TZOFFSETTO:+0100
TZNAME:CET
END:STANDARD
END:VTIMEZONE
END:VCALENDAR