BEGIN:VCALENDAR
VERSION:2.0
PRODID:-//wp-events-plugin.com//7.2.3.1//EN
TZID:Europe/Rome
X-WR-TIMEZONE:Europe/Rome
BEGIN:VEVENT
UID:38374@lazioeventi.com
DTSTART;TZID=Europe/Rome:20240211T140000
DTEND;TZID=Europe/Rome:20240211T170000
DTSTAMP:20240126T090634Z
URL:https://lazioeventi.com/eventi/carnevale-a-villa-latina
SUMMARY:Carnevale a Villa Latina - Villa Latina - 11 Febbraio 24 14:00
DESCRIPTION:Carnevale 2024 a Villa Latina\n\nProgramma:\n14:00 – RADUNO G
 RUPPI\nParcheggio Via Roma\nAccogliamo tutti i partecipanti per prepararci
  a un Carnevale indimenticabile!\n14:30 – PARTENZA Sfilata dei Gruppi Ma
 scherati\n\nUn corteo di colori e allegria attraverserà le vie di Villa L
 atina. Partecipate con le vostre maschere più stravaganti e divertenti!\n
 \nARRIVO – Parco Giochi Comunale\n\nSibaritica Esibizione Gruppi e Premi
 azioni\nGodetevi le esibizioni dei gruppi e partecipate alle premiazioni c
 he celebrano la creatività e l’impegno di ognuno!\n\nIscrizioni Gruppi 
 entro il 28 Gennaio – Contattare: 3342288237\n\nPartecipate numerosi! Il
  Carnevale di Villa Latina promette una giornata di festa\, divertimento e
  comunità. Non perdete l’occasione di far parte di questa tradizione co
 lorata!
ATTACH;FMTTYPE=image/jpeg:https://lazioeventi.com/wp-content/uploads/2024/
 01/carnevale-villa-latina.webp
CATEGORIES:Sport, Tempo Libero e Divertimento nel Lazio
LOCATION:Villa Latina\, Comune\, Villa Latina\, Frosinone\, Lazio\, Italia
GEO:41.6136;13.8376
X-APPLE-STRUCTURED-LOCATION;VALUE=URI;X-ADDRESS=Comune\, Villa Latina\, Fro
 sinone\, Lazio\, Italia;X-APPLE-RADIUS=100;X-TITLE=Villa Latina:geo:41.613
 6,13.8376
END:VEVENT
BEGIN:VTIMEZONE
TZID:Europe/Rome
X-LIC-LOCATION:Europe/Rome
BEGIN:STANDARD
DTSTART:20231029T020000
TZOFFSETFROM:+0200
TZOFFSETTO:+0100
TZNAME:CET
END:STANDARD
END:VTIMEZONE
END:VCALENDAR