BEGIN:VCALENDAR
VERSION:2.0
PRODID:-//wp-events-plugin.com//7.2.3.1//EN
TZID:Europe/Rome
X-WR-TIMEZONE:Europe/Rome
BEGIN:VEVENT
UID:33926@lazioeventi.com
DTSTART;TZID=Europe/Rome:20250223T110000
DTEND;TZID=Europe/Rome:20250223T170000
DTSTAMP:20250117T083958Z
URL:https://lazioeventi.com/eventi/carnevale-al-castello-di-bracciano
SUMMARY:Carnevale al Castello di Bracciano - Bracciano - 23 Febbraio 25 11:
 00
DESCRIPTION:Tutti in maschera\nNelle antiche sale del castello si incontrer
 anno i personaggi della magica fiaba "Il Gatto con gli stivali".\nVisita g
 uidata nel Castello con racconto finale nella sala delle storie\, grandi e
  piccini potranno partecipare in maschera .\nUna giornata in allegria dedi
 cata a tutta la famiglia.\n\nEvento speciale a numero chiuso con prenotazi
 one obbligatoria\ncell. 3293106062\ninfo@teatrohelios.it\nIndicare il nume
 ro di biglietti ed un recapito telefonico.\nSarete contattati dalla nostra
  segreteria per le modalità di prenotazione.\n\nIl costo di euro 18 compr
 ende la visita guidata del Castello con l’incontro di vari personaggi\, 
 protagonisti del racconto finale che si svolgerà nella magica sala delle 
 storie.\nI bambini fino ai 3 anni non compiuti\, saranno nostri ospiti.\nD
 urata complessiva 1 ora e 45 minuti circa \, l 'evento si svolgerà regola
 rmente anche in caso di mal tempo.\n\nE’ richiesta la prenotazione obbli
 gatoria - posti limitati.\nCastello di Bracciano (Roma) via Giulio Volpi 1
 2 - raggiugiile anche in treno  
ATTACH;FMTTYPE=image/jpeg:https://lazioeventi.com/wp-content/uploads/2024/
 01/Locandina-Carnevale-Castello-Bracciano-2025.jpg
CATEGORIES:Musica, Spettacoli e Danza nel Lazio
LOCATION:Bracciano\, Comune di Bracciano\, Bracciano\, Roma\, Lazio\, Itali
 a
GEO:42.1036;12.1756
X-APPLE-STRUCTURED-LOCATION;VALUE=URI;X-ADDRESS=Comune di Bracciano\, Bracc
 iano\, Roma\, Lazio\, Italia;X-APPLE-RADIUS=100;X-TITLE=Bracciano:geo:42.1
 036,12.1756
END:VEVENT
BEGIN:VTIMEZONE
TZID:Europe/Rome
X-LIC-LOCATION:Europe/Rome
BEGIN:STANDARD
DTSTART:20241027T020000
TZOFFSETFROM:+0200
TZOFFSETTO:+0100
TZNAME:CET
END:STANDARD
END:VTIMEZONE
END:VCALENDAR