BEGIN:VCALENDAR
VERSION:2.0
PRODID:-//wp-events-plugin.com//7.2.3.1//EN
TZID:Europe/Rome
X-WR-TIMEZONE:Europe/Rome
BEGIN:VEVENT
UID:38454@lazioeventi.com
DTSTART;TZID=Europe/Rome:20240210T000000
DTEND;TZID=Europe/Rome:20240213T000000
DTSTAMP:20240202T112233Z
URL:https://lazioeventi.com/eventi/carnevale-al-museo-del-videogioco
SUMMARY:Carnevale al Museo del Videogioco - Roma - 10 Febbraio 24 00:00
DESCRIPTION:Vivi il Carnevale al Museo del Videogioco di Roma!\n\nVi aspett
 iamo con offerte speciali nei giorni 10\,11 e 13 febbraio dedicate a costu
 mi a tema e cosplay.\n\nAttività per tutta la famiglia vi attendono con t
 ornei a tema carnevale\, giochi per i più piccoli con angolo face paintin
 g ispirato ai personaggi dei videogiochi\, visite guidate e molto altro!\n
 Scopri la storia del videogioco grazie alle postazioni interattive e prova
  la realtà virtuale nella #VR Room!
ATTACH;FMTTYPE=image/jpeg:https://lazioeventi.com/wp-content/uploads/2024/
 02/carnevale-vigamus.jpg
CATEGORIES:Sport, Tempo Libero e Divertimento nel Lazio
LOCATION:Roma\, Via Leopardi\, Roma\, Roma\, Lazio\, Italia
GEO:41.8942;12.5017
X-APPLE-STRUCTURED-LOCATION;VALUE=URI;X-ADDRESS=Via Leopardi\, Roma\, Roma\
 , Lazio\, Italia;X-APPLE-RADIUS=100;X-TITLE=Roma:geo:41.8942,12.5017
END:VEVENT
BEGIN:VTIMEZONE
TZID:Europe/Rome
X-LIC-LOCATION:Europe/Rome
BEGIN:STANDARD
DTSTART:20231029T020000
TZOFFSETFROM:+0200
TZOFFSETTO:+0100
TZNAME:CET
END:STANDARD
END:VTIMEZONE
END:VCALENDAR