BEGIN:VCALENDAR
VERSION:2.0
PRODID:-//wp-events-plugin.com//7.2.3.1//EN
TZID:Europe/Rome
X-WR-TIMEZONE:Europe/Rome
BEGIN:VEVENT
UID:34144@lazioeventi.com
DTSTART;TZID=Europe/Rome:20230221T140000
DTEND;TZID=Europe/Rome:20230221T170000
DTSTAMP:20230216T144041Z
URL:https://lazioeventi.com/eventi/carnevale-cantalupo
SUMMARY:Carnevale a Cantalupo - Cantalupo in Sabina - 21 Febbraio 23 14:00
DESCRIPTION:Carnevale 2023 a Cantalupo in Sabina\, con sfilate di gruppi ma
 scherati\, balli e divertimento.
ATTACH;FMTTYPE=image/jpeg:https://lazioeventi.com/wp-content/uploads/2023/
 02/carnevale-cantalupo-2023.jpg
CATEGORIES:Sport, Tempo Libero e Divertimento nel Lazio
LOCATION:Cantalupo in Sabina\, Comune\, Cantalupo in Sabina\, Rieti\, Lazio
 \, Italia
GEO:42.3062;12.648
X-APPLE-STRUCTURED-LOCATION;VALUE=URI;X-ADDRESS=Comune\, Cantalupo in Sabin
 a\, Rieti\, Lazio\, Italia;X-APPLE-RADIUS=100;X-TITLE=Cantalupo in Sabina:
 geo:42.3062,12.648
END:VEVENT
BEGIN:VTIMEZONE
TZID:Europe/Rome
X-LIC-LOCATION:Europe/Rome
BEGIN:STANDARD
DTSTART:20221030T020000
TZOFFSETFROM:+0200
TZOFFSETTO:+0100
TZNAME:CET
END:STANDARD
END:VTIMEZONE
END:VCALENDAR