BEGIN:VCALENDAR
VERSION:2.0
PRODID:-//wp-events-plugin.com//7.2.3.1//EN
TZID:Europe/Rome
X-WR-TIMEZONE:Europe/Rome
BEGIN:VEVENT
UID:34084@lazioeventi.com
DTSTART;TZID=Europe/Rome:20230219T133000
DTEND;TZID=Europe/Rome:20230219T170000
DTSTAMP:20230213T092126Z
URL:https://lazioeventi.com/eventi/carnevale-rianese
SUMMARY:Carnevale Rianese - Riano - 19 Febbraio 23 13:30
DESCRIPTION:19 Febbraio - appuntamento ore 13:30 nel cortile dell’Istitut
 o Comprensivo “G. Matteotti”\n\nAlle ore 14 arrivo dei gruppi maschera
 ti alla pista polivalente e la festa continua con tanta musica\, animazion
 e e tanto divertimento!!! \n\nCrea il tuo gruppo mascherato e sfila con no
 i!!! Puoi scrivere sui nostri canali social per scoprire tutte le iniziati
 ve di questa edizione e scegliere il tema della tua maschera!!! \n\nVi asp
 ettiamo!!!
ATTACH;FMTTYPE=image/jpeg:https://lazioeventi.com/wp-content/uploads/2023/
 02/carnevale-riano-2023.jpg
CATEGORIES:Sport, Tempo Libero e Divertimento nel Lazio
LOCATION:Riano\, Comune\, Riano\, Roma\, Lazio\, Italia
GEO:42.0911;12.5236
X-APPLE-STRUCTURED-LOCATION;VALUE=URI;X-ADDRESS=Comune\, Riano\, Roma\, Laz
 io\, Italia;X-APPLE-RADIUS=100;X-TITLE=Riano:geo:42.0911,12.5236
END:VEVENT
BEGIN:VTIMEZONE
TZID:Europe/Rome
X-LIC-LOCATION:Europe/Rome
BEGIN:STANDARD
DTSTART:20221030T020000
TZOFFSETFROM:+0200
TZOFFSETTO:+0100
TZNAME:CET
END:STANDARD
END:VTIMEZONE
END:VCALENDAR