BEGIN:VCALENDAR
VERSION:2.0
PRODID:-//wp-events-plugin.com//7.2.3.1//EN
TZID:Europe/Rome
X-WR-TIMEZONE:Europe/Rome
BEGIN:VEVENT
UID:43536@lazioeventi.com
DTSTART;TZID=Europe/Rome:20260117T150000
DTEND;TZID=Europe/Rome:20260117T170000
DTSTAMP:20260112T224550Z
URL:https://lazioeventi.com/eventi/carnevale-storico-civitonico-2026
SUMMARY:Carnevale Storico Civitonico 2026 - Civita Castellana - 17 Gennaio 
 26 15:00
DESCRIPTION:460° Carnevale Storico Civitonico: storia\, divertimento e col
 laborazione.\n\nIl 17 gennaio 2026 si dà inizio alla 460° edizione del 
 Carnevale Storico Civitonico che\, come ogni anno\, coinvolge centinaia d
 i spettatori e maschere che danno vita ad uno dei Carnevali più gioiosi e
  divertenti del Centro Italia. Le Sfilate di Gala avranno luogo l'8\, i
 l 15 e il 17 febbraio\, data che sancisce la fine del periodo carnevalesco
  e che si conclude con la Festa in piazza Matteotti. Ampio spazio anche ai
  piccoli Carnevalari\, che Giovedì Grasso - 12 febbraio - sfileranno per 
 il Carnevale dei Bambini.\n\nIl palinsesto culturale di questa edizione si
  arricchisce grazie all'intensificazione delle sinergie istituzionali e lo
 cali. In tal senso\, sono state avviate collaborazioni con gli Istituti S
 colastici cittadini nell'ambito dell'alternanza scuola-lavoro\; con le a
 ssociazioni ed enti locali sono in programma mostre e attività laborato
 riali.\n\nLa Città che Balla vi aspetta per divertirsi tutti insieme!\n
ATTACH;FMTTYPE=image/jpeg:https://lazioeventi.com/wp-content/uploads/2026/
 01/carnevale-civitonico-apertura.jpg
CATEGORIES:Arte e Cultura nel Lazio,Sagre, Gastronomia e Tradizioni nel
 Lazio
LOCATION:Civita Castellana\, Comune di Civita Castellana\, Civita Castellan
 a\, Viterbo\, Lazio\, Italia
GEO:42.2889;12.4114
X-APPLE-STRUCTURED-LOCATION;VALUE=URI;X-ADDRESS=Comune di Civita Castellana
 \, Civita Castellana\, Viterbo\, Lazio\, Italia;X-APPLE-RADIUS=100;X-TITLE
 =Civita Castellana:geo:42.2889,12.4114
END:VEVENT
BEGIN:VTIMEZONE
TZID:Europe/Rome
X-LIC-LOCATION:Europe/Rome
BEGIN:STANDARD
DTSTART:20251026T020000
TZOFFSETFROM:+0200
TZOFFSETTO:+0100
TZNAME:CET
END:STANDARD
END:VTIMEZONE
END:VCALENDAR