BEGIN:VCALENDAR
VERSION:2.0
PRODID:-//wp-events-plugin.com//7.2.3.1//EN
TZID:Europe/Rome
X-WR-TIMEZONE:Europe/Rome
BEGIN:VEVENT
UID:43537@lazioeventi.com
DTSTART;TZID=Europe/Rome;VALUE=DATE:20260208
DTEND;TZID=Europe/Rome;VALUE=DATE:20260218
DTSTAMP:20260112T225259Z
URL:https://lazioeventi.com/eventi/carnevale-storico-civitonico
SUMMARY:Carnevale Storico Civitonico - Civita Castellana - 8 Febbraio 26 00
 :00
DESCRIPTION:460° Carnevale Storico Civitonico: storia\, divertimento e col
 laborazione.\n\nIl 17 gennaio 2026 si dà inizio alla 460° edizione del 
 Carnevale Storico Civitonico che\, come ogni anno\, coinvolge centinaia d
 i spettatori e maschere che danno vita ad uno dei Carnevali più gioiosi e
  divertenti del Centro Italia. Le Sfilate di Gala avranno luogo l'8\, i
 l 15 e il 17 febbraio\, data che sancisce la fine del periodo carnevalesco
  e che si conclude con la Festa in piazza Matteotti. Ampio spazio anche ai
  piccoli Carnevalari\, che Giovedì Grasso - 12 febbraio - sfileranno per 
 il Carnevale dei Bambini.\n\nIl palinsesto culturale di questa edizione si
  arricchisce grazie all'intensificazione delle sinergie istituzionali e lo
 cali. In tal senso\, sono state avviate collaborazioni con gli Istituti S
 colastici cittadini nell'ambito dell'alternanza scuola-lavoro\; con le a
 ssociazioni ed enti locali sono in programma mostre e attività laborato
 riali.\n\nLa Città che Balla vi aspetta per divertirsi tutti insieme!\nD
 ate Principali e Programma 2026\nDomenica 8 Febbraio 2026:\n- 1ª Sfilata 
 di Gala: Prima grande sfilata dei carri allegorici e delle migliaia di mas
 chere per le vie del centro storico.\n\nGiovedì 12 Febbraio 2026 (Gioved
 ì Grasso):\n- Carnevale dei Bambini: Giornata dedicata ai più piccoli co
 n sfilate e animazione\, tradizionalmente organizzata con la partecipazion
 e delle scuole e dei "piccoli carnevalari".\n\nDomenica 15 Febbraio 2026:\
 n- 2ª Sfilata di Gala: Secondo appuntamento con la sfilata dei carri alle
 gorici e dei gruppi mascherati.\n\nMartedì 17 Febbraio 2026 (Martedì Gra
 sso):\n- 3ª Sfilata di Gala: Ultima sfilata che conclude il periodo carne
 valesco.\n- Rogo del Puccio: Al termine della sfilata\, in Piazza Matteott
 i\, si tiene la cerimonia di chiusura con il rogo del Re Carnevale ("O' Pu
 ccio")\, che segna la fine dei festeggiamenti.\n- Festa finale: Musica\, b
 alli e distribuzione dei tradizionali "frittelloni" (piatto tipico locale 
 servito con pecorino e pepe) per salutare il Carnevale.\n\nAltre informazi
 oni utili:\nPercorso delle sfilate: Solitamente si snoda da Piazza della L
 iberazione\, percorrendo via Mazzini\, via della Repubblica\, il Ponte Cle
 mentino\, fino ad arrivare in Piazza Matteotti.\n\nOrganizzatore: Fondazio
 ne Carnevale Civitonico ETS / Comune di Civita Castellana.\n\nINOLTRE:\nCi
 vita Castellana attende di essere conosciuta nel suo lato più caratterist
 ico\, tra vicoli\, architetture che raccontano secoli di storia e magnific
 i scorci sull'Agro Falisco\nA guidarvi nel percorso ci saranno le guide ab
 ilitate Fabiana Poleggi e Silvia Menichelli\, insieme agli studenti dell'I
 stituto Colasanti\, pronti a raccontarvi il Carnevale Civitonico e le sue 
 storie\nINFO PRATICHE\nDomenica 8 e domenica 15 febbraio 2026\nore 10:00\n
 Ritrovo presso il Museo della Ceramica Marcantoni\, via Gramsci\, 3\, Civi
 ta Castellana\nPer informazioni sulle tariffe e l'organizzazione della vis
 ita\, contattare l'Ufficio turistico di Civita Castellana\nmuseo.ceramica.
 marcantoni@gmail.com\n+39 328 046 8900
ATTACH;FMTTYPE=image/jpeg:https://lazioeventi.com/wp-content/uploads/2026/
 01/carnevale-civitonico.jpg
CATEGORIES:Sport, Tempo Libero e Divertimento nel Lazio
LOCATION:Civita Castellana\, Comune di Civita Castellana\, Civita Castellan
 a\, Viterbo\, Lazio\, Italia
GEO:42.2889;12.4114
X-APPLE-STRUCTURED-LOCATION;VALUE=URI;X-ADDRESS=Comune di Civita Castellana
 \, Civita Castellana\, Viterbo\, Lazio\, Italia;X-APPLE-RADIUS=100;X-TITLE
 =Civita Castellana:geo:42.2889,12.4114
END:VEVENT
BEGIN:VTIMEZONE
TZID:Europe/Rome
X-LIC-LOCATION:Europe/Rome
BEGIN:STANDARD
DTSTART:20251026T020000
TZOFFSETFROM:+0200
TZOFFSETTO:+0100
TZNAME:CET
END:STANDARD
END:VTIMEZONE
END:VCALENDAR