BEGIN:VCALENDAR
VERSION:2.0
PRODID:-//wp-events-plugin.com//7.2.3.1//EN
TZID:Europe/Rome
X-WR-TIMEZONE:Europe/Rome
BEGIN:VEVENT
UID:28909@lazioeventi.com
DTSTART;TZID=Europe/Rome;VALUE=DATE:20211031
DTEND;TZID=Europe/Rome;VALUE=DATE:20211101
DTSTAMP:20211027T142508Z
URL:https://lazioeventi.com/eventi/carrettata-di-anguillara
SUMMARY:Carrettata di Anguillara - Anguillara Sabazia - 31 Ottobre 21 00:00
DESCRIPTION:1a CARRETTATA DI ANGUILLARA: costruisci il tuo carretto e sfida
  gli altri concorrenti tra le vie del centro storico\nSIAMO IN GARA\nSIAMO
  IN PISTA\nSIAMO SCHEGGE\nSIAMO SEMPRE I FUORILEGGE!\n\nI Fuorilegge\, in 
 collaborazione con la Proloco di Anguillara Sabazia\,\npresentano la Prima
  edizione della Carrettata di Anguillara\n\nCostruisci il tuo carretto e s
 fida gli altri concorrenti tra le vie del centro storico\n\nPer partecipar
 e invia il tuo modulo entro il 29/10/2021\n\nClicca qui per visionare il r
 egolamento dell’evento\nhttps://www.facebook.com/groups/137373793305130/
 permalink/1460378477671315/\n\nClicca qui per scaricare il modulo di parte
 cipazione come pilota\nhttps://www.facebook.com/groups/137373793305130/per
 malink/1460378557671307/\n\nInfo e descrizione: metti partecipa all’even
 to\nhttps://fb.me/e/1QL6JTqDH
ATTACH;FMTTYPE=image/jpeg:https://lazioeventi.com/wp-content/uploads/2021/
 10/ANGUILLARA-CARRETTATA.jpg
CATEGORIES:Sport, Tempo Libero e Divertimento nel Lazio
LOCATION:Anguillara Sabazia\, Comune\, Anguillara Sabazia\, Roma\, Lazio\, 
 Italia
GEO:42.0929;12.2698
X-APPLE-STRUCTURED-LOCATION;VALUE=URI;X-ADDRESS=Comune\, Anguillara Sabazia
 \, Roma\, Lazio\, Italia;X-APPLE-RADIUS=100;X-TITLE=Anguillara Sabazia:geo
 :42.0929,12.2698
END:VEVENT
BEGIN:VTIMEZONE
TZID:Europe/Rome
X-LIC-LOCATION:Europe/Rome
BEGIN:DAYLIGHT
DTSTART:20210328T030000
TZOFFSETFROM:+0100
TZOFFSETTO:+0200
TZNAME:CEST
END:DAYLIGHT
BEGIN:STANDARD
DTSTART:20211031T020000
TZOFFSETFROM:+0200
TZOFFSETTO:+0100
TZNAME:CET
END:STANDARD
END:VTIMEZONE
END:VCALENDAR