BEGIN:VCALENDAR
VERSION:2.0
PRODID:-//wp-events-plugin.com//7.2.3.1//EN
TZID:Europe/Rome
X-WR-TIMEZONE:Europe/Rome
BEGIN:VEVENT
UID:41479@lazioeventi.com
DTSTART;TZID=Europe/Rome;VALUE=DATE:20250524
DTEND;TZID=Europe/Rome;VALUE=DATE:20250526
DTSTAMP:20250509T092659Z
URL:https://lazioeventi.com/eventi/cartografia-pratica-per-escursionisti
SUMMARY:Cartografia pratica per escursionisti - Roma - 24 Maggio 25 00:00
DESCRIPTION:Le Edizioni Il Lupo\, in collaborazione con Alta Quota Store pr
 opone un piccolo corso di CARTOGRAFIA PRATICA PER ESCURSIONISTI\n\nPROGRAM
 MA DEL WEEKEND:\n\nSabato 24 Maggio | 15:00 – 20:00\nLezione teorica:\n
 – Leggere e interpretare una mappa\n– Orientarsi\, riconoscere i princ
 ipali elementi\n– Curve di livello\, scala\, simbologia\n– Cenni alle 
 mappe digitali\nSede: Via Girolamo Benzoni\, 31 – Roma\n\nDomenica 25 Ma
 ggio | 08:30 – 13:30\nEscursione sul campo:\n– Esercizi pratici di ori
 entamento\n– Uso di bussola\, strumenti analogici e digitali\n– Lettur
 a del paesaggio e interpretazione del territorio\nLuogo: Trekking urbano a
  Garbatella – Roma\n\nINFO E ISCRIZIONI:\ninfo@edizioniillupo.it\; info@
 altaquotastore.com– 392.8780482\nPosti limitati!\nPrenotazione obbligato
 ria entro il 18 maggio\n\nCosto: € 50\nIBAN: IT17 T076 0103 2000 0006 19
 58 377\nCausale: Iscrizione Corso di Cartografia\n\nUna vera occasione per
  chi ama la montagna\, l’escursionismo e vuole rendersi autonomo nella l
 ettura del territorio!\n\nTi aspettiamo con bussola alla mano e voglia di 
 esplorare!\nIl Team di Edizioni Il Lupo&Alta Quota Store
ATTACH;FMTTYPE=image/jpeg:https://lazioeventi.com/wp-content/uploads/2025/
 05/Cartografia-2.0-Locandina-2.jpg
CATEGORIES:Sport, Tempo Libero e Divertimento nel Lazio,Varie
LOCATION:Roma\, Via Leopardi\, Roma\, Roma\, Lazio\, Italia
GEO:41.8942;12.5017
X-APPLE-STRUCTURED-LOCATION;VALUE=URI;X-ADDRESS=Via Leopardi\, Roma\, Roma\
 , Lazio\, Italia;X-APPLE-RADIUS=100;X-TITLE=Roma:geo:41.8942,12.5017
END:VEVENT
BEGIN:VTIMEZONE
TZID:Europe/Rome
X-LIC-LOCATION:Europe/Rome
BEGIN:DAYLIGHT
DTSTART:20250330T030000
TZOFFSETFROM:+0100
TZOFFSETTO:+0200
TZNAME:CEST
END:DAYLIGHT
END:VTIMEZONE
END:VCALENDAR