BEGIN:VCALENDAR
VERSION:2.0
PRODID:-//wp-events-plugin.com//7.2.3.1//EN
TZID:Europe/Rome
X-WR-TIMEZONE:Europe/Rome
BEGIN:VEVENT
UID:41833@lazioeventi.com
DTSTART:20250619T110000Z
DTEND:20250622T223000Z
DTSTAMP:20250613T130931Z
URL:https://lazioeventi.com/eventi/casal-de-pazzi-tts-street-food
SUMMARY:Casal De Pazzi TTS Street Food - Roma - 19 Giugno 25 12:00
DESCRIPTION:Il tour più colorato e allegro d’Italia\, dopo aver incantat
 o di gusto e divertimento mezza Roma\, approda in una nuova location\, a C
 asal De Pazzi. Da venerdì 19 a domenica 22 giugno il tour TTSFood farà t
 appa all’interno del parchetto Vittore Armando Marchi\, nel cuore del Mu
 nicipio IV\, per una park edition sensazionale\, circondati dal verde e da
  grandi pini\, per allestire il villaggio street food più grande della ca
 pitale. \n \nLo storico quartiere di Casal De Pazzi sarà travolto dalla m
 agia e dallo spettacolo “on the road” più entusiasmante del momento. 
 Un vero salottino urban green\, circondato tra via Nomentana e Viale Kant\
 , diventerà il luogo ideale dove degustare in pieno relax e ghiottonerie 
 di ogni genere. Una girandola di piatti che vi farà girare la testa\, ogn
 i postazione una scelta eccellente\, ogni scelta una cultura e tradizione 
 diversa che tutte insieme daranno vita ad una festa pazzesca.    \n\nUn t
 urbine di colori\, profumi\, luci e musica\, ma soprattutto tante cose buo
 ne da mangiare inserite in un menù ricco di piatti gourmet caratterizzera
 nno un fine settimana da trascorrere con amici o tutta la famiglia. Si per
 ché TTSFood dà vita a festival per tutti\, grandi e piccoli.\nUna brigat
 a accuratamente selezionata di 25 street chef scenderà in campo per darsi
  battaglia tra padelle e fornelli. In modalità espressa. Davanti ai vostr
 i occhi verranno preparati ottimi piatti della tradizione e incredibili no
 vità del momento. Delizie dolci e salate per tutti i gusti. Antipasti sfi
 ziosi e fritti di ogni genere per grandi e piccini. Carni e pesce cotti da
  veri e propri maestri. Sfiziosità regionali e piatti internazionali\, ma
  anche gluten free e vegane. \n\nCasal De Pazzi per pranzo e cena diventer
 à il ristorante a cielo aperto più grande della capitale. Non mancherà 
 il rito dell’aperitivo nella drink zone accompagnati da musica lounge do
 ve sarà possibile godersi insieme ad una buona compagnia momenti di assol
 uto relax. \n\nDa venerdì 19 Giungo a domenica 22 Giungo i veri protagoni
 sti sarete voi!\n\n\nCOSA TROVERETE?\nGli Street Chef racconteranno la nos
 tra penisola attraverso straordinarie rivisitazioni\, come panini con carn
 e di scottona sfilacciata cotta a bassa temperatura. Panini con delizie di
  pesce\, tonno\, polpo arrosto\, frittura espressa di alici\, moscardini\,
  calamari e baccalà. Dalla Sicilia\, cannoli\, arancine\, pane e panelle\
 , sfincione\, “pane ca meusa” e stigghiole alla brace. Approdando in P
 uglia\, con le autentiche bombette cotte allo spiedo\, puccia artigianale 
 farcita con verdure\, polpo e burrata\, panzerotti e focaccia barese home-
 made. Risalendo la penisola arriviamo fino alle Marche\, con olive ascolan
 e (anche in versione vegana)\, mozzarelline al tartufo fritte al momento e
  cremini ascolani. Pollo fritto marinato nella soia con zenzero e spezie a
 ccompagnato da salse home made. Da una azienda agricola Toscana ottimi ham
 burger di razza maremmana. Passando poi per l’Abruzzo\, gustando i veri 
 arrosticini di pecora cotti alla brace. E il mitico carciofo alla giudia r
 omano. Ma ci saranno ancora tantissimi piatti da scoprire… \n \n“STRIZ
 ZANDO L’OCCHIO ALLE CUCINE ESTERE”\nLe proposte internazionali del nos
 tro menù sono tutte da scoprire! Dal Messico nachos\, burritos e tacos. 
 Dalle isole della Grecia la vera cucina greca con Pita\, Souvlaki\, Dolmad
 es e altre curiosità. Un viaggio in India con piatti iconici della vera c
 ucina asiatica: pollo al curry\, pani puri\, samosa\, dahi bhalle e channe
  bhuture. Come nelle vere steak house Americane\, potrete gustare uno sl
 ow smoked BBQ con costine di maiale\, chicken wings\, pulled pork e molto
  altro. Dal sud America le arepas a base di mais con carne mechada di manz
 o o pollo. Per attraccare poi in Spagna assaporando la vera Paella Valen
 ciana\, cotta nelle tradizionali padellone\, fagottini di mais con prosciu
 tto jamon serrano e patatas bravas (gluten free) ed ovviamente ottima sang
 ria. Direttamente dall’Argentina le mitiche empanadas e panini con succu
 lenta carne. E dalla Penisola Iberica\, smash burger\, sfilacciato e fritt
 i di suino nero selvatico.\n\nPER GLI AMANTI DEL DOLCE…\nPer i più golo
 si\, bombe e ciambelle calde\, tiramisù espresso\, paste sfornate e farci
 te al momento\, maritozzi con la panna\, cheesecake home-made e delizie al
  pistacchio. Cannoli e cremolati siciliani e tante altre dolci sorprese.\n
 \nGLUTEN FREE\nIn esclusiva per il TTS A Tutto Mais preparerà piatti priv
 i di glutine: arepas ed empanadas venezuelane a base di mais con carne mec
 hada di manzo o pollo e birra gluten free. Da Bizzi troverete arrosticini 
 e patate twister. Alla Rueda paella e patata bravas. Da Ao! Le mitiche sco
 ttoncine fritte\, polpettine di scottona sfilacciata. Da El Chapo\, Burrit
 os\, tacos e nachos\, messicani e infine da Magna Grecia: cucina tipica Gr
 eca: Pita\, Souvlaki\, Dolmades\, Gyros\n\nE DA BERE?\nDal più antico bir
 rificio artigianale bavarese in esclusiva per il TTSFood arriva la birra f
 irmata Landshuter Brauhaus\, birra Cruda non Filtrata\, una vera eccellenz
 a tutta da gustare. La Drink Zone proporrà ottimi aperitivi a base di pro
 secco\, spritz e cocktail. \nEd inoltre\, per abbattere il consumo di plas
 tica\, in tutto il villaggio troverete l'acqua minerale naturale Maniva\, 
 in speciali brick originali e interamente riciclabili prodotti dalla Tetra
  Pak in esclusiva per TTS FOOD!\n\nNon fatevelo raccontare\, siate voi i p
 rotagonisti!\n\nINGRESSO LIBERO!\ngiovedì 19 giugno dalle 17:00 alle 24:0
 0\nvenerdì 20 giugno dalle 12:00 alle 24:00\nsabato 21 giugno dalle 12:00
  alle 24:00\ndomenica 22 giugno dalle 12:00 alle 24:00 \n\nTTSFood è un f
 ormat di Mela Eventi\nSegui gli aggiornamenti su www.ttsfood.it e sulle no
 stre pagine social\n\nwww.ttsfood.it\ninfo@ttsfood.it\nFacebook: @ttsfood\
 nInstagram: tts.food\nYoutube: TTS FOOD
ATTACH;FMTTYPE=image/jpeg:https://lazioeventi.com/wp-content/uploads/2025/
 06/locandina.jpg
CATEGORIES:Sagre, Gastronomia e Tradizioni nel Lazio
LOCATION:Roma\, Via Leopardi\, Roma\, Roma\, Lazio\, Italia
GEO:41.8942;12.5017
X-APPLE-STRUCTURED-LOCATION;VALUE=URI;X-ADDRESS=Via Leopardi\, Roma\, Roma\
 , Lazio\, Italia;X-APPLE-RADIUS=100;X-TITLE=Roma:geo:41.8942,12.5017
END:VEVENT
END:VCALENDAR