BEGIN:VCALENDAR
VERSION:2.0
PRODID:-//wp-events-plugin.com//7.2.3.1//EN
TZID:Europe/Rome
X-WR-TIMEZONE:Europe/Rome
BEGIN:VEVENT
UID:33853@lazioeventi.com
DTSTART;TZID=Europe/Rome:20230122T120000
DTEND;TZID=Europe/Rome:20230122T190000
DTSTAMP:20230120T091705Z
URL:https://lazioeventi.com/eventi/cassino-22-gennaio-1944
SUMMARY:Cassino 22 Gennaio 1944 - Cassino - 22 Gennaio 23 12:00
DESCRIPTION:A Cassino domenica 22 Gennaio 2023 dalle ore 12.00 appuntamento
  con l’evento “Cassino 22 Gennaio 1944” arriva la Guerra ai primi di
  Gennaio.\n\nPROGRAMMA:\nore 12.00 – Partenza per tragitto in gommone da
  acquapark di Cassino\, arrivo a Sant’Angelo in Theodice\nore 15.00 – 
 Deposizione corona al monumento della 36a Divisione Texas\nore 15.30 – C
 ommemorazione area «Campana della pace»\, Sant’Angelo in Theodice\nore
  16.30 – Convegno presso il Museo Historiale in Cassino – La prima bat
 taglia di Cassino – Interventi:\n– Danilo Grossi\, Assessore Cultura C
 omune di Cassino\n– Gaetano de Angelis Curtis\n– Giuseppe Caucci\n– 
 Livio Cavallaro\n– Roberto Molle\n– Alessandro Campagna (moderatore)\n
 Intervento musicale Benedetto Vecchio del gruppo MBL\nore 18.00 – Visita
  alla «War Exposition» presso il Museo Historiale
ATTACH;FMTTYPE=image/jpeg:https://lazioeventi.com/wp-content/uploads/2023/
 01/cassino1944.jpg
CATEGORIES:Varie,Arte e Cultura nel Lazio
LOCATION:Cassino\, Comune di Cassino\, Cassino\, Frosinone\, Lazio\, Italia
GEO:41.4929518;13.830372300000022
X-APPLE-STRUCTURED-LOCATION;VALUE=URI;X-ADDRESS=Comune di Cassino\, Cassino
 \, Frosinone\, Lazio\, Italia;X-APPLE-RADIUS=100;X-TITLE=Cassino:geo:41.49
 29518,13.830372300000022
END:VEVENT
BEGIN:VTIMEZONE
TZID:Europe/Rome
X-LIC-LOCATION:Europe/Rome
BEGIN:STANDARD
DTSTART:20221030T020000
TZOFFSETFROM:+0200
TZOFFSETTO:+0100
TZNAME:CET
END:STANDARD
END:VTIMEZONE
END:VCALENDAR