BEGIN:VCALENDAR
VERSION:2.0
PRODID:-//wp-events-plugin.com//7.2.3.1//EN
TZID:Europe/Rome
X-WR-TIMEZONE:Europe/Rome
BEGIN:VEVENT
UID:21133@lazioeventi.com
DTSTART;VALUE=DATE:20231103
DTEND;VALUE=DATE:20231105
DTSTAMP:20231018T070123Z
URL:https://lazioeventi.com/eventi/castagne-e-vino
SUMMARY:Castagne e Vino - Monte San Biagio - 3 Novembre 23 00:00
DESCRIPTION:Torna a gran richiesta la nuova edizione della festa "Castagne&
 amp\;Vino" targata WakeUp.\n\nIl 3 e 4 novembre 2023 il centro storico di 
 Monte San Biagio sarà invaso dal caldo profumo delle castagne arrosto e d
 al fresco aroma di vino.\n\nStand con prodotti tipici tracceranno il perco
 rso tra i vicoletti per una suggestiva passeggiata tra i monumenti.\n\nLe 
 visite guidate e le mostre vi faranno entrare nella storia di Monte San Bi
 agio.\n\nE per finire i concerti dal vivo accenderanno il divertimento del
  primo weekend di novembre. Non mancate
ATTACH;FMTTYPE=image/jpeg:https://lazioeventi.com/wp-content/uploads/2019/
 10/castagne-vino-monte-san-biagio.jpg
CATEGORIES:Sagre, Gastronomia e Tradizioni nel Lazio
LOCATION:Monte San Biagio\, Comune\, Monte San Biagio\, Latina\, Lazio\, It
 alia
GEO:41.3528;13.3512
X-APPLE-STRUCTURED-LOCATION;VALUE=URI;X-ADDRESS=Comune\, Monte San Biagio\,
  Latina\, Lazio\, Italia;X-APPLE-RADIUS=100;X-TITLE=Monte San Biagio:geo:4
 1.3528,13.3512
END:VEVENT
END:VCALENDAR