BEGIN:VCALENDAR
VERSION:2.0
PRODID:-//wp-events-plugin.com//7.2.3.1//EN
TZID:Europe/Rome
X-WR-TIMEZONE:Europe/Rome
BEGIN:VEVENT
UID:10198@lazioeventi.com
DTSTART:20241011T090000Z
DTEND:20241013T210000Z
DTSTAMP:20241003T112213Z
URL:https://lazioeventi.com/eventi/castelli-di-cioccolato
SUMMARY:Castelli di Cioccolato - Marino - 11 Ottobre 24 10:00
DESCRIPTION:L'evento più dolce d'Italia sbarca anche ai Castelli! \n\nUna 
 fiera interamente dedicata al cioccolato con numerosi stand provenienti d
 a ogni parte della penisola.\n\nDegustazioni\, prodotti dolciari e tante d
 olcissime novità come i massaggi al cioccolato\, e tanti laboratori per
  i più piccoli.\n\nIngresso libero.\n\nDurante la manifestazione si potra
 nno degustare praline\, bonbon\, tavolette e tantissime prelibatezze rigor
 osamente prodotte con finissimo cacao da maestri cioccolatieri provenienti
  da tutta Italia.
ATTACH;FMTTYPE=image/jpeg:https://lazioeventi.com/wp-content/uploads/2023/
 10/romachocolate_Marino.jpg
CATEGORIES:Sagre, Gastronomia e Tradizioni nel Lazio
LOCATION:Marino\, Comune\, Marino\, Roma\, Lazio\, Italia
GEO:41.7698;12.6586
X-APPLE-STRUCTURED-LOCATION;VALUE=URI;X-ADDRESS=Comune\, Marino\, Roma\, La
 zio\, Italia;X-APPLE-RADIUS=100;X-TITLE=Marino:geo:41.7698,12.6586
END:VEVENT
END:VCALENDAR