BEGIN:VCALENDAR
VERSION:2.0
PRODID:-//wp-events-plugin.com//7.2.3.1//EN
TZID:Europe/Rome
X-WR-TIMEZONE:Europe/Rome
BEGIN:VEVENT
UID:35466@lazioeventi.com
DTSTART;TZID=Europe/Rome:20230521T100000
DTEND;TZID=Europe/Rome:20230521T180000
DTSTAMP:20230516T092625Z
URL:https://lazioeventi.com/eventi/castello-odescalchi
SUMMARY:Castello Odescalchi - Bracciano - 21 Maggio 23 10:00
DESCRIPTION:In occasione della Giornata Nazionale A.D.S.I. 2023 è prevista
  la visita gratuita e libera delle sale museali.\n\nLa costruzione del Cas
 tello Odescalchi di Bracciano\, forse su progetto dell'architetto Francesc
 o di Giorgio Martini\, inizia nel 1470 su commissione di Napoleone Orsini 
 e viene ultimata nel 1485 sotto la guida del figlio Gentile Virginio.\nNel
  corso dei secoli l'edificio subisce profonde trasformazioni e a causa del
 la sua posizione strategica si trova spesso al centro di aspre contese tra
  le più importanti casate nobiliari di Roma\, come i Colonna e i Borgia.\
 nPapa Alessandro VI Borgia giungerà persino confiscare il Castello nel 14
 96.Nel corso dei secoli l'edificio subisce profonde trasformazioni e a cau
 sa della sua posizione strategica si trova spesso al centro di aspre conte
 se tra le più importanti casate nobiliari di Roma\, come i Colonna e i Bo
 rgia.
ATTACH;FMTTYPE=image/jpeg:https://lazioeventi.com/wp-content/uploads/2023/
 05/veduta-aerea-castello-di-fabio-baroni.jpg
CATEGORIES:Arte e Cultura nel Lazio
LOCATION:Bracciano\, Comune di Bracciano\, Bracciano\, Roma\, Lazio\, Itali
 a
GEO:42.1036;12.1756
X-APPLE-STRUCTURED-LOCATION;VALUE=URI;X-ADDRESS=Comune di Bracciano\, Bracc
 iano\, Roma\, Lazio\, Italia;X-APPLE-RADIUS=100;X-TITLE=Bracciano:geo:42.1
 036,12.1756
END:VEVENT
BEGIN:VTIMEZONE
TZID:Europe/Rome
X-LIC-LOCATION:Europe/Rome
BEGIN:DAYLIGHT
DTSTART:20230326T030000
TZOFFSETFROM:+0100
TZOFFSETTO:+0200
TZNAME:CEST
END:DAYLIGHT
END:VTIMEZONE
END:VCALENDAR