BEGIN:VCALENDAR
VERSION:2.0
PRODID:-//wp-events-plugin.com//7.2.3.1//EN
TZID:Europe/Rome
X-WR-TIMEZONE:Europe/Rome
BEGIN:VEVENT
UID:30507@lazioeventi.com
DTSTART;TZID=Europe/Rome:20230422T100000
DTEND;TZID=Europe/Rome:20230423T180000
DTSTAMP:20230419T111628Z
URL:https://lazioeventi.com/eventi/castrum-novum-revivit
SUMMARY:Castrum Novum Revivit - Santa Marinella - 22 Aprile 23 10:00
DESCRIPTION:Torna il fortunatissimo evento CASTRUM NOVUM REVIVIT\, giunto a
 lla sua 3a stagione\, che ci vede impegnati sull'omonima area archeologica
  di Santa Marinella (RM) insieme al GATC - Gruppo Archeologico del Territo
 rio Cerite e ad Alex Tour Guide Italy\, di Alessandro Oggiano.\n\nLa formu
 la\, vincente\, resta la stessa:\n\n- Visite guidate a cura del direttore 
 del Museo Civico dott. Flavio Enei\, dei soci del GATC e di Alex Tour Guid
 e Italy\;\n\n- Aree didattiche (medicina nel mondo antico\, cosmesi nel mo
 ndo antico\, telai e tessitura nell'antichità\, giochi nel mondo antico\,
  alimentazione dei Romani con assaggi gratuiti per il pubblico di pietanze
  ricostruite secondo le antiche fonti) con una novità: una nuova area did
 attica costituita dal mondo delle maledizioni\, le famigerate "defixiones"
 \, che verrà gestito e illustrato dall'esperto Antonio Pisanelli\;\n\n- S
 oldati romani\;\n\n- Tormenta (con l'allestimento di uno scorpio)\;\n\n- l
 aboratori didattici (del telaio e delle lucerne\, con la possibilità di r
 ealizzare la propria lucerna e portarsela a casa)\;\n\n- Illustrazione dei
  metodi di pulizia e catalogazione dei reperti archeologici trovati sull'a
 rea\;\n\nINGRESSO e PARTECIPAZIONE ALLE ATTIVITA' COMPLETAMENTE GRATUITO\n
 \nVi aspettiamo\, sabato 22 e domenica 23 aprile 2023 dalle 10 al tramonto
  a CASTRUM NOVUM\, SANTA MARINELLA (RM) per un tuffo nella cultura e nella
  storia!
ATTACH;FMTTYPE=image/jpeg:https://lazioeventi.com/wp-content/uploads/2022/
 04/Castrum-Novum-Revivit.jpg
CATEGORIES:Arte e Cultura nel Lazio,Sport, Tempo Libero e Divertimento nel
 Lazio,Varie
LOCATION:Santa Marinella\, Comune di Santa Marinella\, Santa Marinella\, Ro
 ma\, Lazio\, Italia
GEO:42.0344;11.8545
X-APPLE-STRUCTURED-LOCATION;VALUE=URI;X-ADDRESS=Comune di Santa Marinella\,
  Santa Marinella\, Roma\, Lazio\, Italia;X-APPLE-RADIUS=100;X-TITLE=Santa 
 Marinella:geo:42.0344,11.8545
END:VEVENT
BEGIN:VTIMEZONE
TZID:Europe/Rome
X-LIC-LOCATION:Europe/Rome
BEGIN:DAYLIGHT
DTSTART:20230326T030000
TZOFFSETFROM:+0100
TZOFFSETTO:+0200
TZNAME:CEST
END:DAYLIGHT
END:VTIMEZONE
END:VCALENDAR