BEGIN:VCALENDAR
VERSION:2.0
PRODID:-//wp-events-plugin.com//7.2.3.1//EN
TZID:Europe/Rome
X-WR-TIMEZONE:Europe/Rome
BEGIN:VEVENT
UID:28599@lazioeventi.com
DTSTART;TZID=Europe/Rome:20211010T120000
DTEND;TZID=Europe/Rome:20211010T160000
DTSTAMP:20210930T085419Z
URL:https://lazioeventi.com/eventi/cavesja-ft-roberto-marcelli-5-sagra-del
 le-more
SUMMARY:Cavesja ft. Roberto Marcelli - 5° Sagra delle More - Capranica Pre
 nestina - 10 Ottobre 21 12:00
DESCRIPTION:A Capranica Prenestina (Rm) il 10 Ottobre\, dalle ore 12.00 \, 
 il gruppo musicale Cavesja vi aspetta per passare una bellissima giornata 
 alla 5° Sagra delle More.\n\nImmersi nella natura di questo paese incante
 vole\, troverete allestiti stand enogastronomici e potrete assaporare piat
 ti tradizionali con svariati dolci e marmellate a base  di more selvatich
 e\, a suon di musica e danza popolare.
ATTACH;FMTTYPE=image/jpeg:https://lazioeventi.com/wp-content/uploads/2021/
 09/Quante-bella-giovinezza-Che-si-fugge-tuttavia-Chi-vuol-esser-lieto-sia-
 Del-doman-non-ve-certezza..jpg
CATEGORIES:Sagre, Gastronomia e Tradizioni nel Lazio
LOCATION:Capranica Prenestina\, Comune\, Capranica Prenestina\, Roma\, Lazi
 o\, Italia
GEO:41.8624;12.9523
X-APPLE-STRUCTURED-LOCATION;VALUE=URI;X-ADDRESS=Comune\, Capranica Prenesti
 na\, Roma\, Lazio\, Italia;X-APPLE-RADIUS=100;X-TITLE=Capranica Prenestina
 :geo:41.8624,12.9523
END:VEVENT
BEGIN:VTIMEZONE
TZID:Europe/Rome
X-LIC-LOCATION:Europe/Rome
BEGIN:DAYLIGHT
DTSTART:20210328T030000
TZOFFSETFROM:+0100
TZOFFSETTO:+0200
TZNAME:CEST
END:DAYLIGHT
END:VTIMEZONE
END:VCALENDAR