BEGIN:VCALENDAR
VERSION:2.0
PRODID:-//wp-events-plugin.com//7.2.3.1//EN
TZID:Europe/Rome
X-WR-TIMEZONE:Europe/Rome
BEGIN:VEVENT
UID:40195@lazioeventi.com
DTSTART;TZID=Europe/Rome;VALUE=DATE:20241115
DTEND;TZID=Europe/Rome;VALUE=DATE:20241122
DTSTAMP:20241031T185937Z
URL:https://lazioeventi.com/eventi/celeste-reale
SUMMARY:Celeste Reale - Roma - 15 Novembre 24 00:00
DESCRIPTION:Testo curatoriale e presentazione a cura di Francesca Bracaglia
 .\n\nDal 15 al 21 Novembre Medina Art Gallery presenta la mostra d’arte 
 collettiva Celeste Reale\, testo curatoriale e presentazione a cura di Fra
 ncesca Bracaglia\, presso la galleria di via Merulana 220\n\nL’evento di
  opening si terrà il giorno venerdì 15 novembre 2024 ore 18.00 presso la
  galleria di via Merulana 220 con la presentazione di Francesca Bracaglia.
 \n\nQuesta mostra è parte di un progetto di vita più ampio e\, forse\, i
 rrealizzabile: “La maschera cromatica”. È un viaggio ambizioso in cui
  desideriamo esplorare la ricchezza dei colori e delle\nsfumature\, senza 
 cadere nell’istinto umano di archiviare ciò che non riesce a comprender
 e. Iniziamo con un colore affascinante: il “Celeste Reale”\, un tono i
 ntricato e sfuggente\, che sfida ogni tentativo di classificazione e si pr
 esenta in una miriade di nomi e sfumature.\n\nCome maestra di colori\, con
 sidero questo progetto la mia tavolozza\, in cui ogni sfumatura è unica e
  diversa\, proprio come ognuno di noi. Cosı̀ come i colori\, anche le no
 stre anime artistiche si\ndifferenziano\, rendendoci tutti unici e irripet
 ibili\, proprio come i messaggi che gli artisti partecipanti desiderano tr
 asmettere.\n\nDa qui nasce l’idea di iniziare con il “Celeste Reale”
 \, che si distingue per la sua natura mutevole e imprevedibile. Questo col
 ore rappresenta il simbolo dell’aria\, della trasparenza e dell’amore\
 ; risulta essere l’unico colore in grado di contenere il bianco e a far 
 parte dell’iris\, possedendo una ricchezza storica e simbolica\, che rim
 anda al concetto di “paradeisos”\, evocando gli affreschi romani.\n\nI
 l “Celeste Reale”\, associato al paradiso\, si riflette nei lapislazzu
 li\, cosı̀ come nel manto d’oro della Madonna e nelle stelle che illum
 inano il cielo e l’aria e che permettono all’acqua di brillare e\nrisp
 lendere. Questo colore si configura come una poesia che trascende\, un amo
 re che fluisce nell’arte e in noi\, come un fiume o un’onda.\nIl “Ce
 leste Reale” rappresenta quindi un elemento che abbraccia il paradiso\, 
 il mare e il cielo. Forse è proprio per questo che è cosı̀ “reale”
 .\n\nIn breve:\nTitolo mostra: Celeste Reale\nOpening mostra: venerdì 15 
 novembre h 18\nDurata mostra: dal 15 al 21 novembre 2024\nLuogo: Medina Ar
 t Gallery | Via Merulana 220 | Roma\nContatti Medina Art Gallery:\nEmail: 
 info@medinaroma.com - Tel. +39 06 960 30 764\nSocial: facebook.com / medin
 aroma.arte / Instagram.com / medinaroma.arte\nWebsite: https://www.medinar
 oma.com\nOrario di apertura: Tutti i giorni 10.00-13.00 / 15.00-19.00
ATTACH;FMTTYPE=image/jpeg:https://lazioeventi.com/wp-content/uploads/2024/
 10/A3_Celeste-Reale-_page-0001_11zon.jpg
CATEGORIES:Arte e Cultura nel Lazio
LOCATION:Roma\, Via Leopardi\, Roma\, Roma\, Lazio\, Italia
GEO:41.8942;12.5017
X-APPLE-STRUCTURED-LOCATION;VALUE=URI;X-ADDRESS=Via Leopardi\, Roma\, Roma\
 , Lazio\, Italia;X-APPLE-RADIUS=100;X-TITLE=Roma:geo:41.8942,12.5017
END:VEVENT
BEGIN:VTIMEZONE
TZID:Europe/Rome
X-LIC-LOCATION:Europe/Rome
BEGIN:STANDARD
DTSTART:20241027T020000
TZOFFSETFROM:+0200
TZOFFSETTO:+0100
TZNAME:CET
END:STANDARD
END:VTIMEZONE
END:VCALENDAR