BEGIN:VCALENDAR
VERSION:2.0
PRODID:-//wp-events-plugin.com//7.2.3.1//EN
TZID:Europe/Rome
X-WR-TIMEZONE:Europe/Rome
BEGIN:VEVENT
UID:31065@lazioeventi.com
DTSTART;TZID=Europe/Rome:20220603T210000
DTEND;TZID=Europe/Rome:20220604T223000
DTSTAMP:20220523T163947Z
URL:https://lazioeventi.com/eventi/cencio-vendetta-morte-di-un-brigante
SUMMARY:Cencio Vendetta: morte di un brigante - Velletri - 3 Giugno 22 21:0
 0
DESCRIPTION:Torna in scena il Gruppo Folk ‘0 Stazzo\, con uno degli spett
 acoli che a pieno titolo fanno la storia del teatro veliterno.\nStiamo par
 lando del dramma storico “Cencio Vendetta: morte di un brigante”\, di 
 Giovanni Ponzo.\n\nL’opera allestita l’ultima volta in piazza Caduti s
 ul Lavoro nel 2017\, torna dove fu allestita la prima volta\, al Teatro Ar
 temisio Gian Maria Volonté\, dedicata al suo autore\, scomparso il 3 apri
 le del 2021.\n\nA dirigere i membri del gruppo e alcuni attori veliterni i
 l regista Wladimiro Sist\, che ha fatto un attento lavoro di caratterizzaz
 ione dei singoli personaggi riuscendo a riproporre le atmosfere e le circo
 stanze in cui si svolse la storia.\n\nCon attenzione e rispetto per il per
 iodo storico è stato preparato un allestimento che catturerà l’attenzi
 one del pubblico\, in alcuni momenti farà restare con il fiato sospeso e\
 , per molti aspetti\, farà rabbrividire: lo spettatore si troverà protag
 onista nella vita cittadina alla fine degli anni ’50 del XIX secolo\, ch
 e viene sconvolta dalla notizia del furto della Madonna.\n\nDall’inizial
 e imbarazzo del governo pontificio\, rappresentato da Mons. Luigi Giordani
  (delegato apostolico)\, che non vuole concedere il salvacondotto al Vende
 tta né\, tantomeno\, abbassarsi a trattare con lui\, si arriva all’inco
 ntro scontro con il rappresentante del Papa\, che tenta vanamente di ripre
 ndere la Madonna\, promettendo a Cencio di intercedere per lui presso Pio 
 IX. Si arriva alla rivoluzione di Pasqua\, quando il popolo\, inferocito a
 lla scoperta del furto\, si rivolta contro i Gesuiti.\n\nIl tutto culmina 
 con la restituzione della Madonna e l’esecuzione di Cencio. Preziosi sar
 anno gli intermezzi musicali dei fratelli Cedroni e di Francesca Trenta. T
 utto fa pensare a due serate piene di emozioni.
ATTACH;FMTTYPE=image/jpeg:https://lazioeventi.com/wp-content/uploads/2022/
 05/teatro-velletri.jpg
CATEGORIES:Musica, Spettacoli e Danza nel Lazio
LOCATION:Velletri\, Comune\, Velletri\, Roma\, Lazio\, Italia
GEO:41.6865;12.7776
X-APPLE-STRUCTURED-LOCATION;VALUE=URI;X-ADDRESS=Comune\, Velletri\, Roma\, 
 Lazio\, Italia;X-APPLE-RADIUS=100;X-TITLE=Velletri:geo:41.6865,12.7776
END:VEVENT
BEGIN:VTIMEZONE
TZID:Europe/Rome
X-LIC-LOCATION:Europe/Rome
BEGIN:DAYLIGHT
DTSTART:20220327T030000
TZOFFSETFROM:+0100
TZOFFSETTO:+0200
TZNAME:CEST
END:DAYLIGHT
END:VTIMEZONE
END:VCALENDAR