BEGIN:VCALENDAR
VERSION:2.0
PRODID:-//wp-events-plugin.com//7.2.3.1//EN
TZID:Europe/Rome
X-WR-TIMEZONE:Europe/Rome
BEGIN:VEVENT
UID:41261@lazioeventi.com
DTSTART;TZID=Europe/Rome:20250501T100000
DTEND;TZID=Europe/Rome:20250504T200000
DTSTAMP:20250417T235756Z
URL:https://lazioeventi.com/eventi/cento-pittori-via-margutta-lumanita-del
 -giubileo-nei-colori-di-via-margutta
SUMMARY:Cento Pittori Via Margutta: L’umanità del Giubileo nei colori di
  Via Margutta - Roma - 1 Maggio 25 10:00
DESCRIPTION:Ritorna la 123° edizione della storica manifestazione d’arte
  dell’Associazione Cento Pittori Via Margutta\, dal 1° al 4 maggio 2025
 \, che quest’anno avrà come tema “L’umanità del Giubileo nei color
 i di Via Margutta” e sarà visitabile dalle 10 alle 20 tutti i giorni.\n
 \nQuesto evento non è solo una semplice esposizione\, rappresenta un viag
 gio coinvolgente nell'anima dell'arte\, un'opportunità per esplorare e ce
 lebrare la ricca storia dei Cento Pittori di Via Margutta\, che si ripete 
 a Roma dal 1953.\n\nLa manifestazione sarà inaugurata il giorno 1° maggi
 o alle ore 16.00 con la partecipazione dell'Onorevole Federico Mollicone\,
  Presidente della Commissione Cultura\, Scienza e Istruzione della Camera 
 dei Deputati\, dal Presidente della Regione Lazio Francesco Rocca\, dall
 ’Assessore alla Cultura del Comune di Roma Massimo Smeriglio e dal Consi
 gliere Comunale Ferdinando Bonessio.\n\nParteciperà al simbolico taglio d
 el nastro il celebre critico d'arte\, consulente dell’Enciclopedia d’A
 rte Italiana Prof. Alberto Moioli\, che con la sua esperienza e passione\,
  offrirà una riflessione profonda sull'essenza dell'arte contemporanea e 
 sulla sua capacità di trasmettere emozioni.\n\nDurante l'inaugurazione\, 
 verranno conferiti i titoli di Soci Onorari e il premio alla Carriera agli
  artisti Vincenzo Labianca\, Antonio Ricci\, Lucia Piangatelli\, Salvatore
  Luppolo\, Rita Biagi\, Barbara Sorrentino\, Domenico Zaccaria\, per i lor
 o straordinari contributi nell’Associazione e nel mondo dell’arte.\n\n
 Come dichiara il neo-eletto Presidente Antonio Servillo: “Via Margutta\,
  con la sua storia intrisa d’arte e creatività\, si veste di nuovi colo
 ri per raccontare l’umanità del Giubileo. In questo angolo di Roma\, do
 ve il tempo sembra sospeso tra passato e presente\, l’arte diventa lingu
 aggio universale capace di accogliere\, celebrare e far riflettere sullo s
 pirito di questo evento straordinario. Via Margutta diventa culla d’ispi
 razione e bellezza\, un palcoscenico dove la spiritualità incontra la cre
 atività\, e dove ogni opera diventa una finestra aperta sulla ricerca di 
 senso\, di luce e di armonia. Un viaggio artistico che celebra il Giubileo
  attraverso le visioni degli artisti\, con le sfumature sulle tele che tra
 sformano la strada in un mosaico di emozioni e racconti. Qui\, l’umanit
 à si esprime attraverso i colori\, le pennellate e le intuizioni di chi h
 a scelto l’arte come mezzo per interpretare la sacralità\, la speranza 
 e il cammino interiore che ogni Giubileo porta con sé.”\n\nCamminando l
 ungo questa pittoresca strada\, il pubblico sarà accolto da un susseguirs
 i di opere d'arte che raccontano storie\, emozioni e vissuti che potranno 
 essere ammirate dal pubblico sulle classiche e storiche strutture espositi
 ve\, costituite da un cavalletto sormontato da ombrellone.\n\nGrazie alla 
 collaborazione con l'Accademia delle Belle Arti di Roma\, alcuni allievi a
 vranno la possibilità di interagire con gli artisti del Cento Pittori\, c
 reando un ponte tra nuove generazioni e tradizione. Questo scambio cultura
 le rappresenta una preziosa opportunità di crescita per gli studenti\, ch
 e potranno apprendere\, ispirarsi e sviluppare le proprie competenze artis
 tiche.\n\nA rendere ancora più magico l'evento\, ci saranno esibizioni da
 l vivo degli allievi dell'Accademia di Santa Cecilia. Le melodie incantevo
 li e armoniose accompagneranno le opere d'arte esposte\, creando un'esperi
 enza sensoriale unica in cui musica e arte visiva si intrecciano\, traspor
 tando il pubblico in una dimensione oltre il tempo e lo spazio.\n\nIn prog
 ramma ci saranno anche incontri e discussioni interattive con artisti ed e
 sperti del settore\, che offriranno spunti di riflessione sul significato 
 dell'arte nella società odierna. I visitatori avranno l'opportunità di d
 ialogare e confrontarsi con i protagonisti di questa manifestazione.\n\nTu
 tto questo è stato reso possibile grazie al prezioso contributo del Vice 
 Presidente  dei Cento Pittori Paola Minissale\, del segretario particolar
 e Maurizio. Baiocchini  e dei Consiglieri Silvano Fabrizio\, Maurizio. Ba
 iocchini\, Angelo Colazingari\, Roberto Fantini\, Pino Tersigni e di Maria
  Cristina Lucidi.\n\nL’esposizione diffusa ha ottenuto il patrocinio di 
 Roma Capitale\, del Consiglio Regionale del Lazio\, del Presidente della C
 ommissione Cultura della Camera dei Deputati\, e della ICAS Intergruppo pa
 rlamentare Cultura Arte e Sport nonché l’alto Patronage del Parlamento 
 Europeo.\n\nSi ringraziano per la collaborazione MDS Express Courier\, Gal
 leria Vittoria\, Vidi Margutta e Imprenditori Accademia Digitale Italia.\n
 \nVi aspettiamo con entusiasmo per celebrare insieme l'arte in tutte le su
 e forme!
ATTACH;FMTTYPE=image/jpeg:https://lazioeventi.com/wp-content/uploads/2025/
 04/Edizione-2024-photo-credits-Monica-Irma-Ricci.jpg
CATEGORIES:Arte e Cultura nel Lazio
LOCATION:Roma\, Via Leopardi\, Roma\, Roma\, Lazio\, Italia
GEO:41.8942;12.5017
X-APPLE-STRUCTURED-LOCATION;VALUE=URI;X-ADDRESS=Via Leopardi\, Roma\, Roma\
 , Lazio\, Italia;X-APPLE-RADIUS=100;X-TITLE=Roma:geo:41.8942,12.5017
END:VEVENT
BEGIN:VTIMEZONE
TZID:Europe/Rome
X-LIC-LOCATION:Europe/Rome
BEGIN:DAYLIGHT
DTSTART:20250330T030000
TZOFFSETFROM:+0100
TZOFFSETTO:+0200
TZNAME:CEST
END:DAYLIGHT
END:VTIMEZONE
END:VCALENDAR