BEGIN:VCALENDAR
VERSION:2.0
PRODID:-//wp-events-plugin.com//7.2.3.1//EN
TZID:Europe/Rome
X-WR-TIMEZONE:Europe/Rome
BEGIN:VEVENT
UID:28326@lazioeventi.com
DTSTART;TZID=Europe/Rome:20210624T194500
DTEND;TZID=Europe/Rome:20210624T214500
DTSTAMP:20210619T212629Z
URL:https://lazioeventi.com/eventi/cerealia-festival-a-tavola-con-cristofo
 ro-da-messisbugo
SUMMARY:Cerealia Festival: a tavola con Cristoforo da Messisbugo - Velletri
  - 24 Giugno 21 19:45
DESCRIPTION:A cena con Cristoforo da Messisbugo | giovedì 24 giugno a Vell
 etri\, presso la splendida sede de L’Orto del Pellegrino\, appuntamento 
 alle ore 19\,45 con una performance in costume rinascimentale e apericena 
 con prodotti del territorio.\n\nUn intermezzo scenico in costume rinascime
 ntale interpretato da Gerardo Dino Ruggiero (Cristoforo da Messisbugo) e P
 aola Sarcina (Auretta)\, ispirato alla figura di Cristoforo da Messisbugo\
 , celebre maestro di cerimonie degli Estensi.\n\nNel 1549 apparve a Ferrar
 a il volume di Cristoforo da Messisbugo Banchetti compositioni di vivande 
 et apparecchio generale (ristampato a Venezia nel 1559).\n\nNon è solamen
 te un manuale di gastronomia ed un trattatello d’artigianato e d’attre
 zzeria della cucina\, ma anche uno spaccato di costume e\, soprattutto\, u
 na raccolta di fedeli cronache di festini e conviti\, nei quali all’esub
 eranza alimentare s’accorda spesso un proporzionato consumo di musiche e
  intermezzi.\n\nA cura di L’Orto del Pellegrino-Ecomuseo della terra ame
 na\, Music Theatre International. Attività con quota di sottoscrizione e 
 prenotazione obbligatoria: www.lortodelpellegrino.it/ - sconto del 20% per
  i soci TCI.
ATTACH;FMTTYPE=image/jpeg:https://lazioeventi.com/wp-content/uploads/2021/
 06/Orto-del-Pellegrino-2018-CdM-13.jpeg
CATEGORIES:Sport, Tempo Libero e Divertimento nel Lazio,Sagre, Gastronomia
 e Tradizioni nel Lazio
LOCATION:Velletri\, Comune\, Velletri\, Roma\, Lazio\, Italia
GEO:41.6865;12.7776
X-APPLE-STRUCTURED-LOCATION;VALUE=URI;X-ADDRESS=Comune\, Velletri\, Roma\, 
 Lazio\, Italia;X-APPLE-RADIUS=100;X-TITLE=Velletri:geo:41.6865,12.7776
END:VEVENT
BEGIN:VTIMEZONE
TZID:Europe/Rome
X-LIC-LOCATION:Europe/Rome
BEGIN:DAYLIGHT
DTSTART:20210328T030000
TZOFFSETFROM:+0100
TZOFFSETTO:+0200
TZNAME:CEST
END:DAYLIGHT
END:VTIMEZONE
END:VCALENDAR