BEGIN:VCALENDAR
VERSION:2.0
PRODID:-//wp-events-plugin.com//7.2.3.1//EN
TZID:Europe/Rome
X-WR-TIMEZONE:Europe/Rome
BEGIN:VEVENT
UID:37391@lazioeventi.com
DTSTART;TZID=Europe/Rome:20240107T183000
DTEND;TZID=Europe/Rome:20240107T201500
DTSTAMP:20231010T072051Z
URL:https://lazioeventi.com/eventi/cetra-una-volta
SUMMARY:Cetra una volta - Velletri - 7 Gennaio 24 18:30
DESCRIPTION:Svelati gli spettacoli per la stagione di prosa del Teatro Arte
 misio-Volontè: Rezza\, Lupano\, Fresi\, Benvenuti e Tognazzi nella grande
  programmazione di Velletri\nInizierà il 14 ottobre la stagione di prosa 
 2023-2024 del Teatro Artemisio-Gian Maria Volonté di Velletri. Ufficiale 
 la programmazione messa a punto dalla Fondazione di Partecipazione Arte & 
 Cultura Città di Velletri\, diretta da Giacomo Zito\, con il patrocinio d
 i Ministero della Cultura\, Regione Lazio\, Comune di Velletri e la collab
 orazione dell'ATCL. Otto date di assoluto spessore\, artisti e artiste di 
 indiscutibile valore e un calendario fitto e interessante in ogni sua prop
 osta.\n\nLa prima stagionale sarà sabato 14 ottobre alle 21 con Antonio R
 ezza in "Io"\, storia di un personaggio umano e disumano in uno spettacolo
  privo di simmetria e logica. \n\nDomenica 19 novembre alle 18.30 sarà la
  volta di "Tre uomini e una culla" dal film omonimo di Coline Serrau con G
 iorgio Lupano\, Gabriele Pignotta e Attilio Fontana. \n\nDomenica 3 dicemb
 re\, invece\, alle 18.30 "Il teorema della rana"\, farsa comicissima dai r
 itmi frenetici\, con Luca Ferrini\, Alberto Melone\, Valentina Martino Ghi
 glia\, Paolo Roca Rey\, Guglielmo Lello\, Davide Sapienza\, Lucia Tamborri
 no\, Veronica Stradella.\n\nIl 2024 si aprirà domenica 7 gennaio alle 18.
 30 con "Cetra una volta"\, di Toni Fornari\, con Stefano Fresi\, Toni Forn
 ari ed Emanuela Fresi. Una tributo di musica e parole al Quartetto più fa
 moso della storia. \n\nSabato 20 gennaio alle 21 "Falstaff a Windsor" con 
 Alessandro Benvenuti\, per una meravigliosa pagina di teatro direttamente 
 dal capolavoro di Shakespeare a cavallo tra la commedia nera e la farsa de
 lle allegre comari. \n\nDomenica 4 febbraio - eccezionalmente alle 19.30\,
  orario inedito - saliranno sul palco veliterno Massimo De Lorenzo\, Carlo
  De Ruggieri e Cristina Pellegrino con "4 5 6"\, vicenda comica e violenta
  di una famiglia che vive in una valle sperduta. \n\nDomenica 18 febbraio\
 , alle 18.30\, Sabrina Scuccimarra interpreta "Giorni infelici"\, monologo
  di una donna e del suo castello di certezze destinato a cambiare.\n\nGran
  finale di una programmazione da sogno sabato 9 marzo alle 21 con Gianmarc
 o Tognazzi - per la prima volta da attore a Velletri - Renato Marchetti e 
 Fausto Sciarappa in "L'onesto fantasma"\, di Edoardo Erba\, storia di quat
 tro attori che si ritrovano in tre per la scomparsa prematura di uno di lo
 ro e decidono di assegnargli comunque un ruolo\, quello di fantasma.\n\nDa
 l 18 settembre sono sottoscrivibili gli abbonamenti\, con le seguenti tari
 ffe:\n- platea I settore 120 euro (112 euro ridotto)\n- platea II settore 
 104 euro (96 euro ridotto)\n- galleria 96 euro (88 euro ridotto). \nDal 18
  al 28 settembre è possibile solo rinnovare gli abbonamenti\, dal 29 sett
 embre al 9 ottobre si potranno sottoscrivere i nuovi.  Sono attive promozi
 oni speciali per gli studenti e i docenti che hanno partecipato al Palio T
 eatrale Studentesco\, sia per gli abbonamenti che per i biglietti. \n\nIl 
 costo del ticket per i singoli spettacoli è di 20 euro per la platea l se
 ttore (18 euro ridotto)\, 18 euro per la platea II settore (16 ridotto)\, 
 15 euro per la galleria (13 ridotto). I biglietti degli spettacoli saranno
  acquistabili dal 10 ottobre. \n\nPer informazioni e comunicazioni è disp
 onibile il sito www.fondarc.it\, la mail comunicazione@fondarc.it e la pag
 ina facebook ufficiale "Fondazione di Partecipazione Arte e Cultura Città
  di Velletri".
ATTACH;FMTTYPE=image/jpeg:https://lazioeventi.com/wp-content/uploads/2023/
 10/Artemisio2023-2024-Front.webp
CATEGORIES:Musica, Spettacoli e Danza nel Lazio
LOCATION:Velletri\, Comune\, Velletri\, Roma\, Lazio\, Italia
GEO:41.6865;12.7776
X-APPLE-STRUCTURED-LOCATION;VALUE=URI;X-ADDRESS=Comune\, Velletri\, Roma\, 
 Lazio\, Italia;X-APPLE-RADIUS=100;X-TITLE=Velletri:geo:41.6865,12.7776
END:VEVENT
BEGIN:VTIMEZONE
TZID:Europe/Rome
X-LIC-LOCATION:Europe/Rome
BEGIN:STANDARD
DTSTART:20231029T020000
TZOFFSETFROM:+0200
TZOFFSETTO:+0100
TZNAME:CET
END:STANDARD
END:VTIMEZONE
END:VCALENDAR