BEGIN:VCALENDAR
VERSION:2.0
PRODID:-//wp-events-plugin.com//7.2.3.1//EN
TZID:Europe/Rome
X-WR-TIMEZONE:Europe/Rome
BEGIN:VEVENT
UID:29527@lazioeventi.com
DTSTART;TZID=Europe/Rome:20211222T204500
DTEND;TZID=Europe/Rome:20211222T230000
DTSTAMP:20211213T104908Z
URL:https://lazioeventi.com/eventi/charity-show
SUMMARY:Charity Show - Frosinone - 22 Dicembre 21 20:45
DESCRIPTION:Una straordinaria ed importante iniziativa di beneficenza per r
 accogliere fondi da donare all’Ospedale “F. Spaziani” di Frosinone (
 che ha abbracciato l’evento con entusiasmo) per l’allestimento tecnol
 ogico necessario per realizzare una piccola sala cinematografica per i paz
 ienti ricoverati\, come già avviene in altri importanti ospedali d’Ital
 ia: ad organizzarla\, la direzione del Fornaci Cinema Village di Frosinon
 e che già lanciato l’iniziativa sui propri canali social\, riscuotend
 o già tantissimo interesse ed apprezzamenti.\n\nLa serata – che si terr
 à il 22 dicembre alle ore 20:45 – verrà animata dalla Michely Family 
 Big band con la formazione al completo composta da 19 elementi\, con fiati
  e archi che presenterà un repertorio natalizio in chiave swing e rock’
 n roll divertente e coinvolgente\; con\, in più\, un ospite “special”
  a sorpresa…\n\nSi potrà sostenere la raccolta attraverso l’acquisto 
 del biglietto del concerto\, attraverso donazione con bonifico bancario co
 n una causale specifica o anche attraverso il sostegno anonimo in busta ch
 e potrà essere consegnato direttamente a mano la sera del concerto\; i d
 ettagli di tutte le modalità verranno resi noti nelle prossime ore dalla 
 direzione del Fornaci Cinema Village.\n\nI biglietti per partecipare alla 
 serata sono già in vendita a questo link.\n\n“Cosa molto importante 
 – spiegano dalla direzione del Fornaci Cinema Village – sarà anche 
 il progetto dedicato ai bambini “fragili” – un’iniziativa sempre i
 nterna a “Christmas Wonderland” a cura della dirigenza dell’ASL di 
 Frosinone che si svolgerà sempre nelle nostre sale. Per questi bambini ch
 e sono stati definiti “eroici” che lottano con malattie importanti (so
 no bambini con malattie oncologiche) è prevista per il 15 dicembre prossi
 mo la loro prima dose di vaccino anti-covid. Contestualmente alla prima d
 ose di vaccino consegneremo loro anche un biglietto del cinema che gli con
 sentirà la visione del film “Encanto” di Walt Disney la mattina del 1
 9 dicembre 2021. Il cinema sarà a loro disposizione con pop-corn e tutto 
 il necessario per avere una bellissima mattinata che condivideranno con le
  loro famiglie”.
ATTACH;FMTTYPE=image/jpeg:https://lazioeventi.com/wp-content/uploads/2021/
 12/christamas-wonderland.jpeg
CATEGORIES:Varie,Musica, Spettacoli e Danza nel Lazio
LOCATION:Frosinone\, Comune\, Frosinone\, Frosinone\, Lazio\, Italia
GEO:41.6396;13.3508
X-APPLE-STRUCTURED-LOCATION;VALUE=URI;X-ADDRESS=Comune\, Frosinone\, Frosin
 one\, Lazio\, Italia;X-APPLE-RADIUS=100;X-TITLE=Frosinone:geo:41.6396,13.3
 508
END:VEVENT
BEGIN:VTIMEZONE
TZID:Europe/Rome
X-LIC-LOCATION:Europe/Rome
BEGIN:STANDARD
DTSTART:20211031T020000
TZOFFSETFROM:+0200
TZOFFSETTO:+0100
TZNAME:CET
END:STANDARD
END:VTIMEZONE
END:VCALENDAR