BEGIN:VCALENDAR
VERSION:2.0
PRODID:-//wp-events-plugin.com//7.2.3.1//EN
TZID:Europe/Rome
X-WR-TIMEZONE:Europe/Rome
BEGIN:VEVENT
UID:32052@lazioeventi.com
DTSTART;TZID=Europe/Rome:20220820T210000
DTEND;TZID=Europe/Rome:20220820T230000
DTSTAMP:20220817T152335Z
URL:https://lazioeventi.com/eventi/chiara-civello
SUMMARY:Chiara Civello - Santa Marinella - 20 Agosto 22 21:00
DESCRIPTION:Una tracklist di 12 brani classici dal 1945 al 1975 di autori f
 rancesi: da Michel Legrand a Charles Aznavour\, Charles Trénet\, Édith P
 iaf\, Jacques Brel o Gilbert Bécaud e Francis Lai. Nomi conosciuti dagli 
 amanti della musica francese\, ma non necessariamente dal pubblico interna
 zionale.\n\nE questa è la grande sorpresa di questo album. Queste canzoni
  hanno varcato i confini per oltre 70 anni senza alcun riferimento alla lo
 ro eredità francese. \nCon questa collezione passano dall’ombra alla lu
 ce. Chi potrebbe immaginare che Feelings\, The Good Life o My Way siano st
 ati tutti scritti da autori francesi? E che Frank Sinatra\, Julio Inglesia
 s\, Elvis Presley\, Madonna\, Lady Gaga\, Luciano Pavarotti\, Céline Dion
 \, Dalida o Caetano Veloso abbiamo inciso questi capolavori\, facendoli di
 ventare a livello internazionale la colonna sonora della nostra vita.\n\nL
 a voce di Chiara Civello è intimista\, mettendo spesso a nudo la sua anim
 a. La produzione è pura con il tocco di Marc Collin: un po’ retrò con 
 una varietà di stili che vanno dal piano bar\, nel senso nobile del termi
 ne (I Will Wait For You\, My Way\, The Good Life)\, swing (Petite Fleur)\,
  ritmi cubani (Feelings)\, batteria e beat con improvvisazioni vocali e al
  pianoforte (La Vie en Rose)\, soul (What Now My Love) e anche blaxploitat
 ion (Hier Encore).\n\nBiglietto € 15 + € 2 di prevendita
ATTACH;FMTTYPE=image/jpeg:https://lazioeventi.com/wp-content/uploads/2022/
 08/chiara-civello.jpeg
CATEGORIES:Musica, Spettacoli e Danza nel Lazio
LOCATION:Santa Marinella\, Comune di Santa Marinella\, Santa Marinella\, Ro
 ma\, Lazio\, Italia
GEO:42.0344;11.8545
X-APPLE-STRUCTURED-LOCATION;VALUE=URI;X-ADDRESS=Comune di Santa Marinella\,
  Santa Marinella\, Roma\, Lazio\, Italia;X-APPLE-RADIUS=100;X-TITLE=Santa 
 Marinella:geo:42.0344,11.8545
END:VEVENT
BEGIN:VTIMEZONE
TZID:Europe/Rome
X-LIC-LOCATION:Europe/Rome
BEGIN:DAYLIGHT
DTSTART:20220327T030000
TZOFFSETFROM:+0100
TZOFFSETTO:+0200
TZNAME:CEST
END:DAYLIGHT
END:VTIMEZONE
END:VCALENDAR