BEGIN:VCALENDAR
VERSION:2.0
PRODID:-//wp-events-plugin.com//7.2.3.1//EN
TZID:Europe/Rome
X-WR-TIMEZONE:Europe/Rome
BEGIN:VEVENT
UID:34544@lazioeventi.com
DTSTART;TZID=Europe/Rome:20230319T100000
DTEND;TZID=Europe/Rome:20230319T170000
DTSTAMP:20230314T055304Z
URL:https://lazioeventi.com/eventi/chiese-aperte
SUMMARY:Chiese Aperte - Sermoneta - 19 Marzo 23 10:00
DESCRIPTION:Domenica 19 marzo In occasione della festa del Santo Patrono di
  Sermoneta\, San Giuseppe\, come amministrazione comunale abbiamo coinvolt
 o il FAI – Fondo Ambiente Italiano delegazione di Latina per una giornat
 a speciale: CHIESE APERTE\n\nGuide d’eccezione saranno gli studenti dell
 e scuole superiori della provincia di Latina\, che faranno da ciceroni ai 
 visitatori presso la cattedrale di Santa Maria Assunta\, la chiesa di San 
 Giuseppe e la chiesa di San Michele Arcangelo.\n\nNon solo: in via del tut
 to straordinaria\, sarà visitabile anche la ex SINAGOGA di Sermoneta\, so
 litamente visitabile solo dall’esterno\, e il laboratorio di Liuteria de
 l Maestro Pietro Melia.\nInsieme al Fai di Latina\, di cui l’amministraz
 ione è socio sostenitore e con il quale da anni collabora (ripartimmo con
  il turismo dopo il Covid con le Giornate Fai d’Autunno nel 2020)\, “C
 hiese aperte” anticipa le Giornate Fai di Primavera in programma la sett
 imana successiva. \n\nPer chi verrà a Sermoneta sarà l’occasione anche
  di visitare la mostra alla LOGGIA DEI MERCANTI "41° Parallelo" di Monica
  Giovinazzi\, curata da Vincenzo Scozzarella\, che inaugureremo sabato 18:
  sedici installazioni sospese che rappresentano sedici nazioni presenti su
 l 41° parallelo\, come Sermoneta: la Loggia sarà un punto di incontro tr
 a culture e popoli diversi\, per lanciare al mondo un messaggio di pace.
ATTACH;FMTTYPE=image/jpeg:https://lazioeventi.com/wp-content/uploads/2023/
 03/sermoneta-aperure-straordinarie.jpg
CATEGORIES:Arte e Cultura nel Lazio
LOCATION:Sermoneta\, Comune\, Sermoneta\, Latina\, Lazio\, Italia
GEO:41.5491;12.9853
X-APPLE-STRUCTURED-LOCATION;VALUE=URI;X-ADDRESS=Comune\, Sermoneta\, Latina
 \, Lazio\, Italia;X-APPLE-RADIUS=100;X-TITLE=Sermoneta:geo:41.5491,12.9853
END:VEVENT
BEGIN:VTIMEZONE
TZID:Europe/Rome
X-LIC-LOCATION:Europe/Rome
BEGIN:STANDARD
DTSTART:20221030T020000
TZOFFSETFROM:+0200
TZOFFSETTO:+0100
TZNAME:CET
END:STANDARD
END:VTIMEZONE
END:VCALENDAR