BEGIN:VCALENDAR
VERSION:2.0
PRODID:-//wp-events-plugin.com//7.2.3.1//EN
TZID:Europe/Rome
X-WR-TIMEZONE:Europe/Rome
BEGIN:VEVENT
UID:26771@lazioeventi.com
DTSTART;TZID=Europe/Rome:20200711T213000
DTEND;TZID=Europe/Rome:20200711T230000
DTSTAMP:20200628T221758Z
URL:https://lazioeventi.com/eventi/chiostro-in-scena-2020-07-11
SUMMARY:Chiostro in scena - Veroli - 11 Luglio 20 21:30
DESCRIPTION:Dalla collaborazione con il Comune di Veroli\, Duecento22 - Art
 i e spettacolo e Pro Loco Veroli nasce un evento tutto teatrale nella sple
 ndida cornice del Chiostro di Sant'Agostino ( Via Vittorio Emanuele\, 12 -
  Veroli ). ● Sabato 04 Luglio ore 21:3
ATTACH;FMTTYPE=image/jpeg:https://lazioeventi.com/wp-content/uploads/2020/
 06/chiostro-in-scena.jpg
CATEGORIES:Musica, Spettacoli e Danza nel Lazio
LOCATION:Veroli\, Comune di Veroli\, Veroli\, Frosinone\, Lazio\, Italia
GEO:41.6911;13.4178
X-APPLE-STRUCTURED-LOCATION;VALUE=URI;X-ADDRESS=Comune di Veroli\, Veroli\,
  Frosinone\, Lazio\, Italia;X-APPLE-RADIUS=100;X-TITLE=Veroli:geo:41.6911,
 13.4178
END:VEVENT
BEGIN:VTIMEZONE
TZID:Europe/Rome
X-LIC-LOCATION:Europe/Rome
BEGIN:DAYLIGHT
DTSTART:20200329T030000
TZOFFSETFROM:+0100
TZOFFSETTO:+0200
TZNAME:CEST
END:DAYLIGHT
END:VTIMEZONE
END:VCALENDAR