BEGIN:VCALENDAR
VERSION:2.0
PRODID:-//wp-events-plugin.com//7.2.3.1//EN
TZID:Europe/Rome
X-WR-TIMEZONE:Europe/Rome
BEGIN:VEVENT
UID:40986@lazioeventi.com
DTSTART;TZID=Europe/Rome:20250405T100000
DTEND;TZID=Europe/Rome:20250405T130000
DTSTAMP:20250319T100513Z
URL:https://lazioeventi.com/eventi/chip-day-a-serrone
SUMMARY:Chip Day a Serrone - Serrone - 5 Aprile 25 10:00
DESCRIPTION:Microchip per la sicurezza degli animali: appuntamento il 5 apr
 ile\n\nLa Giornata del Chip Day si terrà il 5 aprile\, dalle 10:00 alle 1
 3:00\, presso l’ex stazione di Serrone. Un evento di grande rilevanza de
 dicato alla sensibilizzazione e all’informazione sull’importanza dell
 ’identificazione elettronica degli animali.\n\nPerché il microchip è f
 ondamentale\nL’identificazione elettronica degli animali domestici rappr
 esenta una misura essenziale per la loro sicurezza e benessere\, come prev
 isto dalla normativa nazionale (L. 281/1991) e dalla legge regionale (L.R.
  34/1997).\n\nDurante la giornata\, i proprietari potranno prenotare l’i
 nserimento del microchip\, una procedura semplice e rapida\, che consente 
 di identificare in modo certo gli animali e di prevenirne lo smarrimento e
  il randagismo.\n\nObbligo di identificazione per i cani\nSecondo la norma
 tiva vigente\, tutti i cani devono essere identificati tramite microchip\,
  garantendo una registrazione ufficiale e una maggiore protezione in caso 
 di smarrimento. Questa pratica aiuta le autorità e le associazioni animal
 iste a ritrovare più facilmente gli animali dispersi e a combattere l’a
 bbandono.\n\nUn’iniziativa per la consapevolezza\nL’evento ha lo scopo
  di promuovere una maggiore responsabilità nella gestione degli animali d
 omestici. Identificare il proprio animale significa assicurargli protezion
 e\, aumentare le possibilità di ritrovamento in caso di smarrimento e con
 tribuire alla lotta contro il randagismo.\n\nNECESSARIA LA PRENOTAZIONE!
ATTACH;FMTTYPE=image/jpeg:https://lazioeventi.com/wp-content/uploads/2025/
 03/chio-day-serrone.jpg
CATEGORIES:Varie
LOCATION:Serrone\, Comune\, Serrone\, Frosinone\, Lazio\, Italia
GEO:41.8407;13.0968
X-APPLE-STRUCTURED-LOCATION;VALUE=URI;X-ADDRESS=Comune\, Serrone\, Frosinon
 e\, Lazio\, Italia;X-APPLE-RADIUS=100;X-TITLE=Serrone:geo:41.8407,13.0968
END:VEVENT
BEGIN:VTIMEZONE
TZID:Europe/Rome
X-LIC-LOCATION:Europe/Rome
BEGIN:DAYLIGHT
DTSTART:20250330T030000
TZOFFSETFROM:+0100
TZOFFSETTO:+0200
TZNAME:CEST
END:DAYLIGHT
END:VTIMEZONE
END:VCALENDAR